Workbook
Name jednorázová_částka___hl._administrativní_tým: '[1]Přehled kategorií ZMV'!#REF!
Name jednorázová_částka___hl._administrativní_tým: #REF!
Name jednorázová_částka___NA_ZPRACOVÁNÍ_EVALUAČNÍ_ZPRÁVY: '[1]Přehled kategorií ZMV'!#REF!
Name jednorázová_částka___NA_ZPRACOVÁNÍ_EVALUAČNÍ_ZPRÁVY: #REF!

Sheet Úvod
B4: Formulář prohlášení o splnění zásady DNSH (významně nepoškozovat)
B6: Příloha ZZoR
B8: Úvod Posouzení souladu projektu se zásadou Do No Significant Harm (DNSH) ověřuje, zda projekt nezpůsobuje významné negativní dopady na environmentální cíle Evropské unie. Formulář příjemce předkládá se ZZoR při dokládání podmínek DNSH podle kapitoly D.1.5 PrŽaP. Ve Formuláři vyhodnotí plnění podmínek z kapitoly C.13, které specifická kapitola D konkretizuje pro danou výzvu, a posoudí, zda projekt významně nepoškozuje některý ze šesti environmentálních cílů podle čl. 17 nařízení Evropského parlamentu a Rady (EU) 2020/852.
B9: Prokázání splnění podmínek (list Specifické podmínky DNSH) Formulář automaticky zobrazuje pouze ty specifické podmínky DNSH z kap. C.13 PrŽaP, které jsou pro danou výzvu relevantní. U podmínek, jejichž splnění měl příjemce prokázat již v předchozích fázích projektu (např. ve fázi hodnocení Žádosti o podporu nebo podání Žádosti o platbu), formulář automaticky uvádí informace o tom, kdy a jakým způsobem mělo k prokázání dojít. Pokud PrŽaP nestanoví konkrétní dokument, kterým se splnění podmínky prokazuje, či bylo splnění podmínky deklarováno příjemcem pouze čestným prohlášením k Žádosti o podporu, příjemce v tomto formuláři stručně popíše způsob splnění podmínky a uvede odkaz na relevantní dokumentaci, která jeho tvrzení podporuje. Jestliže PrŽaP stanoví konkrétní doklad pro ověření splnění podmínky, je příjemce povinen tento doklad předložit v příslušné fázi administrace projektu. V tomto formuláři uvede odkaz na předložený dokument nebo na místo, kde je uložen. Samotné dokumenty příjemce předkládá pouze na základě případné výzvy poskytovatele dotace nebo v rámci veřejnosprávní kontroly/auditu. Dokumentace k DNSH nepředstavuje novou povinnost. Jedná se o dokumenty, které je příjemce povinen uchovávat pro účely administrace/kontroly.
B10: Vyhodnocení cílů DNSH (list Cíle DNSH) Formulář na základě splnění jednotlivých specifických podmínek automaticky vyhodnotí dopad projektu na jednotlivé environmentální cíle. Příjemce vyplňuje komentář pouze u těch cílů, u nichž došlo k porušení některé ze specifických podmínek DNSH. V komentáři vyhodnotí, zda porušení dílčí podmínky představuje významné poškození ve vztahu k projektu jako celku. Z komentáře musí být zřejmé, zda porušení dílčí podmínky mělo, či nemělo negativní dopad na celkový environmentální profil projektu, a z jakých důvodů příjemce dospěl k tomuto závěru.
B11: Následující postup slouží jako návod pro vyplnění tabulky. Příjemce vyplní jednotlivé položky podle níže uvedených pokynů:
B13: INFORMACE PRO VYPLNĚNÍ ÚDAJŮ
B14: 1. | C14: Vyplňujte pouze červená pole.
B15: 2. | C15: Na listu Specifické podmínky DNSH vyplňte Registrační číslo projektu, Název projektu a Název příjemce.
B16: 3. | C16: Na listu Specifické podmínky DNSH vyberte v rolovacím seznamu číslo výzvy (buňka A6). Na základě tohoto výběru budou ze zdrojových dat automaticky načteny specifické podmínky DNSH relevantní pro danou výzvu (sloupec B), způsob jejich prokázání (sloupec C) a případná poznámka vztahující se k dané výzvě (buňka B6).
B17: 4. | C17: Na listu Specifické podmínky DNSH vyberte ke každé podmínce ve sloupci Splněno (D) odpověď "ANO/NE/Nerelevantní“ podle toho, zda byla podmínka splněna, nesplněna či zda je pro projekt nerelevantní. Praktický příklad: Pokud je výzvou dána podmínka DNSH (např. instalace sprch), příjemce označí možnost „Ano“, pokud instalované sprchy splňují požadovaný průtok. V komentáři zároveň uvede odkaz na relevantní dokumentaci, na jejímž základě lze splnění podmínky ověřit. Možnost „Ne“ příjemce zvolí v případě, že podmínka splněna není. Variantu „Nerelevantní“ uvede tehdy, pokud se daná podmínka na projekt nevztahuje, například pokud instalace sprch není součástí projektu. Všechny odpovědi musejí být odůvodněny ve sloupci Komentář.
B18: 5. | C18: Na listu Specifické podmínky DNSH uveďte do sloupce Komentář (E) způsob splnění podmínky, tj. srozumitelně popište, jak byla podmínka splněna nebo proč je pro projekt nerelevantní. Pokud podmínka splněna nebyla, uveďte důvod jejího nesplnění. Současně doplňte odkaz na příslušnou dokumentaci (např. technické listy, normy, právní předpisy nebo jiné dokumenty), která splnění podmínky dokládá.
B19: 6. | C19: Pokud u některé specifické podmínky příjemce na listu Specifické podmínky DNSH uvedl ve sloupci Splněno "NE", promítne se tato skutečnost automaticky na list Cíle DNSH, kde se ve sloupci B zobrazí u příslušného cíle "ANO".
B20: 7. | C20: Pokud se na listu Cíle DNSH zobrazí u některých cílů ve sloupci B "ANO“, je příjemce povinen ve sloupci C zhodnotit, zda porušení dílčí podmínky představuje významné poškození ve vztahu k projektu jako celku. Z komentáře musí být zřejmé, zda porušení dílčí podmínky mělo, či nemělo negativní dopad na celkový environmentální profil projektu, a z jakých důvodů příjemce dospěl k tomuto závěru.
B21: 8. | C21: Pokud jsou na listu Cíle DNSH ve sloupci B u všech environmentálních cílů uvedeny odpovědi "NE“, příjemce komentář nevyplňuje. To znamená, že nedošlo k porušení žádné specifické podmínky DNSH a není důvod provádět individuální posouzení dopadu na jednotlivé environmentální cíle.
B22: 9. | C22: Technická poznámka: Současná verze formuláře při použití filtrů automaticky neskrývá prázdné řádky a ani neupravuje jejich výšku. Zobrazení prázdných řádků proto není chybou formuláře. Upozorňujeme příjemce na nutnost rolování na listě Specifické podmínky DNSH.
B23: 10 | C23: Po vyplnění všech povinných polí se tabulka automaticky zbarví zeleně, což signalizuje její správné vyplnění. Výjimku představuje sloupec B na listu Cíle DNSH, který zůstává při označení možnosti „ANO“ červeně podbarvený. Toto chování je záměrné a nepředstavuje chybu ve vyplnění formuláře.
C25: v1

Sheet Specifické podmínky DNSH
A1: Registrační číslo projektu
A2: Název projektu
A3: Název příjemce
A5: Číslo výzvy
A6: 22_001 | B6: =_xlfn.XLOOKUP(A$6,'Zdrojová data'!D$4:CW$4,'Zdrojová data'!D2:CW2) -> 0
A8: Cíl | B8: Podmínky DNSH | C8: Způsob prokázání splnění podmínky | D8: Podmínka splněna | E8: Komentář ke způsobu splnění podmínky
A9: {=_xlfn.XLOOKUP(A$6,'Zdrojová data'!D$4:DW$4,IF('Zdrojová data'!D5:DW5=1,'Zdrojová data'!A5,""))} -> 1. Zmírňování změny klimatu | B9: {=_xlfn.XLOOKUP(A$6,'Zdrojová data'!D$4:CW$4,IF('Zdrojová data'!D5:CW5=1,'Zdrojová data'!B5,""))} -> 1a) Z OPST nelze podporovat investice do výroby, zpracování, přepravy, distribuce, skladování nebo spalování fosilních paliv včetně investic do materiálního využití fosilních paliv | C9: {=_xlfn.XLOOKUP(A$6,'Zdrojová data'!D$4:CW$4,IF('Zdrojová data'!D5:CW5=1,'Zdrojová data'!C5,""))} -> Potvrďte, že projekt nezahrnoval uvedené typy výdajů. | D9: Vyberte odpověď
A10: {=_xlfn.XLOOKUP(A$6,'Zdrojová data'!D$4:DW$4,IF('Zdrojová data'!D6:DW6=1,'Zdrojová data'!A6,""))} -> 1. Zmírňování změny klimatu | B10: {=_xlfn.XLOOKUP(A$6,'Zdrojová data'!D$4:CW$4,IF('Zdrojová data'!D6:CW6=1,'Zdrojová data'!B6,""))} -> 1b) Z OPST nelze podporovat investice snižující emise skleníkových plynů v zařízení ETS | C10: {=_xlfn.XLOOKUP(A$6,'Zdrojová data'!D$4:CW$4,IF('Zdrojová data'!D6:CW6=1,'Zdrojová data'!C6,""))} -> Potvrďte, že projekt nezahrnoval uvedené typy výdajů. | D10: Vyberte odpověď | E10: =IF(D10="ano","Doložte naplnění cíle - uveďte odkazy na doložené dokumenty, atp. ","")
A11: {=_xlfn.XLOOKUP(A$6,'Zdrojová data'!D$4:DW$4,IF('Zdrojová data'!D7:DW7=1,'Zdrojová data'!A7,""))} -> 1. Zmírňování změny klimatu | B11: {=_xlfn.XLOOKUP(A$6,'Zdrojová data'!D$4:CW$4,IF('Zdrojová data'!D7:CW7=1,'Zdrojová data'!B7,""))} -> 1c) Z OPST nelze podporovat investice zaměřené na energetické využití odpadů | C11: {=_xlfn.XLOOKUP(A$6,'Zdrojová data'!D$4:CW$4,IF('Zdrojová data'!D7:CW7=1,'Zdrojová data'!C7,""))} -> Potvrďte, že projekt nezahrnoval uvedené typy výdajů. | D11: Vyberte odpověď | E11: =IF(D11="ano","Doložte naplnění cíle - uveďte odkazy na doložené dokumenty, atp. ","")
A12: {=_xlfn.XLOOKUP(A$6,'Zdrojová data'!D$4:DW$4,IF('Zdrojová data'!D8:DW8=1,'Zdrojová data'!A8,""))} -> 1. Zmírňování změny klimatu | B12: {=_xlfn.XLOOKUP(A$6,'Zdrojová data'!D$4:CW$4,IF('Zdrojová data'!D8:CW8=1,'Zdrojová data'!B8,""))} -> 3a) Z OPST lze podporovat výstavbu nové budovy pouze za podmínky, že spotřeba primární energie definující energetickou náročnost budovy, která je výsledkem výstavby, je nejméně o 20 % nižší než prahová hodnota, kterou u požadavků na budovy s téměř nulovou spotřebou energie stanoví vnitrostátní opatření provádějící směrnici Evropského parlamentu a Rady 2010/31/EU. Uvedenou podmínku není nutné splnit v případě: • výstavby budov s celkovou energeticky vztažnou plochou menší než 50 m2, • výstavby skladů, průmyslových a výrobních provozů či dílenských provozoven, • tzv. drobné stavby dle přílohy č.1 zákona 283/2021 Sb. (stavební zákon), v platném znění. | C12: {=_xlfn.XLOOKUP(A$6,'Zdrojová data'!D$4:CW$4,IF('Zdrojová data'!D8:CW8=1,'Zdrojová data'!C8,""))} -> Potvrďte, že byl k žádosti o podporu doložen PENB. | D12: Vyberte odpověď
A13: {=_xlfn.XLOOKUP(A$6,'Zdrojová data'!D$4:DW$4,IF('Zdrojová data'!D9:DW9=1,'Zdrojová data'!A9,""))} -> 1. Zmírňování změny klimatu | B13: {=_xlfn.XLOOKUP(A$6,'Zdrojová data'!D$4:CW$4,IF('Zdrojová data'!D9:CW9=1,'Zdrojová data'!B9,""))} -> 4a) Při renovaci budovy (konstrukce obálky budovy, energetické zdroje, či realizace dalších opatření vedoucích ke snížené energetické náročnosti budovy) musí dojít k úspoře minimálně 30 % primární energie z neobnovitelných zdrojů. V odůvodněných případech je možné dosáhnout i nižší úspory a to např.: • pokud je renovace obálky budovy v rozsahu do 25 % z celkové plochy obálky budovy, • v minulosti již byla provedena dílčí renovace, vedoucí ke snížení energetické náročnosti budovy, • existují omezení z důvodu památkové ochrany budovy v souladu s § 7 odst. 5 zákona č. 406/2000 Sb., o hospodaření energií, ve znění pozdějších předpisů, • vzhledem k charakteru budovy by se jednalo o nákladově neefektivní opatření; Důvod (důvody), proč není možné limitní úspory dosáhnout, budou objektivně doloženy k žádosti o podporu, prostřednictvím Energetického posudku, který definuje maximálně možnou hodnotu energetických úspor dosažitelnou realizovaných projektem. Tato hodnota bude povinným závazkem projektu. Uvedenou podmínku není nutné splnit v případě: • budov s celkovou energeticky vztažnou plochou menší než 50 m2, • skladů, průmyslových, výrobních provozů, dílenských provozoven se spotřebou energie do 195 MWh za rok, za podmínky, že Příjemce podpory tuto skutečnost prokazatelně doloží společně se Žádostí o podporu; • tzv. drobných staveb dle přílohy č. 1 zákona 283/2021 Sb. (stavební zákon), v platném znění. | C13: {=_xlfn.XLOOKUP(A$6,'Zdrojová data'!D$4:CW$4,IF('Zdrojová data'!D9:CW9=1,'Zdrojová data'!C9,""))} -> Potvrďte, že bylo předloženo nejpozději k ZZoR/ZŽoP Stanovisko zpracovatele energetického posudku zpracované podle vzoru zveřejněného na www.opst.cz v sekci Ostatní dokumenty. Tento požadavek se nevztahuje na projekty výzev č. 91 - 96. V těchto případech je vzor stanoviska energetického posudku součástí dokumentace příslušné výzvy. | D13: Vyberte odpověď | E13: =IF(D13="ano","Doložte naplnění cíle - uveďte odkazy na doložené dokumenty, atp. ","")
A14: {=_xlfn.XLOOKUP(A$6,'Zdrojová data'!D$4:DW$4,IF('Zdrojová data'!D10:DW10=1,'Zdrojová data'!A10,""))} -> 1. Zmírňování změny klimatu | B14: {=_xlfn.XLOOKUP(A$6,'Zdrojová data'!D$4:CW$4,IF('Zdrojová data'!D10:CW10=1,'Zdrojová data'!B10,""))} -> 4b) V rámci snižování energetické náročnosti technologických procesů musejí všechny nové spotřebiče splňovat nejvyšší dostupnou energetickou třídu dle příslušné legislativy pro daný typ spotřebiče. | C14: {=_xlfn.XLOOKUP(A$6,'Zdrojová data'!D$4:CW$4,IF('Zdrojová data'!D10:CW10=1,'Zdrojová data'!C10,""))} -> Potvrďte, že do projektu byly zahrnuty pouze spotřebiče, které splňují tuto podmínku. V případě pořízení spotřebičů s nižší energetickou třídou doložte záznam o průzkumu trhu se spotřebiči obdobných typových a technických specifikací. Pro účely kontroly na místě uchovejte dokumentaci prokazující splnění této podmínky a na vyžádání ji předložte poskytovateli podpory nebo jinému kontrolnímu orgánu. Splnění podmínky lze doložit například: - energetickým štítkem spotřebiče; - technickým listem atd. | D14: Vyberte odpověď | E14: =IF(D14="ano","Doložte naplnění cíle - uveďte odkazy na doložené dokumenty, atp. ","")
A15: {=_xlfn.XLOOKUP(A$6,'Zdrojová data'!D$4:DW$4,IF('Zdrojová data'!D11:DW11=1,'Zdrojová data'!A11,""))} -> 1. Zmírňování změny klimatu | B15: {=_xlfn.XLOOKUP(A$6,'Zdrojová data'!D$4:CW$4,IF('Zdrojová data'!D11:CW11=1,'Zdrojová data'!B11,""))} -> 4c) V případě realizace výměny/rekonstrukce zdroje tepla na vytápění musí budova po realizaci projektu plnit minimálně parametry energetické náročnosti definované § 6 odst. 2 vyhlášky č. 264/2020 Sb., o energetické náročnosti budov, v platném znění. | C15: {=_xlfn.XLOOKUP(A$6,'Zdrojová data'!D$4:CW$4,IF('Zdrojová data'!D11:CW11=1,'Zdrojová data'!C11,""))} -> Potvrďte, že byl k žádosti o podporu doložen PENB. | D15: Vyberte odpověď | E15: =IF(D15="ano","Doložte naplnění cíle - uveďte odkazy na doložené dokumenty, atp. ","")
A16: {=_xlfn.XLOOKUP(A$6,'Zdrojová data'!D$4:DW$4,IF('Zdrojová data'!D12:DW12=1,'Zdrojová data'!A12,""))} -> 1. Zmírňování změny klimatu | B16: {=_xlfn.XLOOKUP(A$6,'Zdrojová data'!D$4:CW$4,IF('Zdrojová data'!D12:CW12=1,'Zdrojová data'!B12,""))} -> 6a) podpořený automobil kategorie M1 a N1 musí mít nulové emise CO2/km | C16: {=_xlfn.XLOOKUP(A$6,'Zdrojová data'!D$4:CW$4,IF('Zdrojová data'!D12:CW12=1,'Zdrojová data'!C12,""))} -> Potvrďte, že do projektu byly zahrnuty pouze automobily, které splňují tuto podmínku. Pro účely kontroly na místě uchovejte dokumentaci prokazující splnění této podmínky a na vyžádání ji předložte poskytovateli podpory nebo jinému kontrolnímu orgánu. Splnění podmínky lze doložit například: - technickým průkazem vozidla/ COC list; - technickým listem výrobce - jiným průkazným dokladem výrobce, z něhož je zřejmé, že vozidlo vykazuje emise 0 g CO₂/km atd. | D16: Vyberte odpověď | E16: =IF(D16="ano","Doložte naplnění cíle - uveďte odkazy na doložené dokumenty, atp. ","")
A17: {=_xlfn.XLOOKUP(A$6,'Zdrojová data'!D$4:DW$4,IF('Zdrojová data'!D13:DW13=1,'Zdrojová data'!A13,""))} -> 1. Zmírňování změny klimatu | B17: {=_xlfn.XLOOKUP(A$6,'Zdrojová data'!D$4:CW$4,IF('Zdrojová data'!D13:CW13=1,'Zdrojová data'!B13,""))} -> 6b) v případě pronájmu (operativní leasing) automobil kategorie M1 a N1 musí mít emise nižší než 50 g CO2/km, od 1. 1. 2026 musí být emise nulové do 31. 12. 2025 → ≤ 50 g CO₂/km od 1. 1. 2026 → 0 g CO₂/km | C17: {=_xlfn.XLOOKUP(A$6,'Zdrojová data'!D$4:CW$4,IF('Zdrojová data'!D13:CW13=1,'Zdrojová data'!C13,""))} -> Potvrďte, že do projektu byly zahrnuty pouze automobily, které splňují tuto podmínku. Pro účely kontroly na místě uchovejte dokumentaci prokazující splnění této podmínky a na vyžádání ji předložte poskytovateli podpory nebo jinému kontrolnímu orgánu. Splnění podmínky lze doložit například: - technickým průkazem vozidla/ COC list; - technickým listem výrobce; - jiným průkazným dokladem výrobce, z něhož je zřejmé, že vozidlo vykazuje do 31. 12. 2025 → ≤ 50 g CO₂/km, od 1. 1. 2026 → 0 g CO₂/km. | D17: Vyberte odpověď | E17: =IF(D17="ano","Doložte naplnění cíle - uveďte odkazy na doložené dokumenty, atp. ","")
A18: {=_xlfn.XLOOKUP(A$6,'Zdrojová data'!D$4:DW$4,IF('Zdrojová data'!D14:DW14=1,'Zdrojová data'!A14,""))} -> 1. Zmírňování změny klimatu | B18: {=_xlfn.XLOOKUP(A$6,'Zdrojová data'!D$4:CW$4,IF('Zdrojová data'!D14:CW14=1,'Zdrojová data'!B14,""))} -> 6c) u vozidel kategorií N2 a N3 spadajících do oblasti působnosti nařízení (EU) 2019/1242 dosahují specifické přímé emise CO2 nejvýše referenčních emisí CO2 pro všechna vozidla v dané podskupině, jak stanoví článek 3 uvedeného nařízení | C18: {=_xlfn.XLOOKUP(A$6,'Zdrojová data'!D$4:CW$4,IF('Zdrojová data'!D14:CW14=1,'Zdrojová data'!C14,""))} -> Potvrďte, že do projektu byla zahrnuta pouze vozidla, která splňují tuto podmínku. Pro účely kontroly na místě uchovejte dokumentaci prokazující splnění této podmínky a na vyžádání ji předložte poskytovateli podpory nebo jinému kontrolnímu orgánu. Splnění podmínky lze doložit například: - technickým průkazem vozidla; - dokumentací výrobce / schvalovací dokumentace / výstupy z homologace; - jiným technickým dokladem, z něhož bude zřejmé, jaké jsou specifické přímé emise CO₂ daného vozidla a do jaké podskupiny vozidlo náleží atd. | D18: Vyberte odpověď | E18: =IF(D18="ano","Doložte naplnění cíle - uveďte odkazy na doložené dokumenty, atp. ","")
A19: {=_xlfn.XLOOKUP(A$6,'Zdrojová data'!D$4:DW$4,IF('Zdrojová data'!D15:DW15=1,'Zdrojová data'!A15,""))} -> 1. Zmírňování změny klimatu | B19: {=_xlfn.XLOOKUP(A$6,'Zdrojová data'!D$4:CW$4,IF('Zdrojová data'!D15:CW15=1,'Zdrojová data'!B15,""))} -> 6d) v případě vozidel pro zvláštní účely, pokud výše uvedená pravidla neplatí, bude podporována nejlepší dostupná technologie v dané kategorii vozidel. | C19: {=_xlfn.XLOOKUP(A$6,'Zdrojová data'!D$4:CW$4,IF('Zdrojová data'!D15:CW15=1,'Zdrojová data'!C15,""))} -> Potvrďte, že do projektu byla zahrnuta pouze vozidla, která splňují tuto podmínku. Pro účely kontroly na místě uchovejte dokumentaci prokazující splnění této podmínky a na vyžádání ji předložte poskytovateli podpory nebo jinému kontrolnímu orgánu. Splnění podmínky lze doložit například: - technickým průkazem vozidla; - technickým listem výrobce; - zdůvodněním, že se jedná o vozidlo pro zvláštní účely, na které nelze aplikovat požadavky bodů 6a–6c vč.odůvodnění výběru technologie atd. | D19: Vyberte odpověď | E19: =IF(D19="ano","Doložte naplnění cíle - uveďte odkazy na doložené dokumenty, atp. ","")
A20: {=_xlfn.XLOOKUP(A$6,'Zdrojová data'!D$4:DW$4,IF('Zdrojová data'!D16:DW16=1,'Zdrojová data'!A16,""))} -> 1. Zmírňování změny klimatu | B20: {=_xlfn.XLOOKUP(A$6,'Zdrojová data'!D$4:CW$4,IF('Zdrojová data'!D16:CW16=1,'Zdrojová data'!B16,""))} -> 7a) Při podpoře výroby vodíku je podpora poskytovaná jen na obnovitelný vodík. | C20: {=_xlfn.XLOOKUP(A$6,'Zdrojová data'!D$4:CW$4,IF('Zdrojová data'!D16:CW16=1,'Zdrojová data'!C16,""))} -> Potvrďte, že do projektu byla zahrnuta pouze zařízení, která splňují tuto podmínku. Pro účely kontroly na místě uchovejte dokumentaci prokazující splnění této podmínky a na vyžádání ji předložte poskytovateli podpory nebo jinému kontrolnímu orgánu. Splnění podmínky lze doložit například: - předběžnou certifikací obnovitelného vodíku dle pravidel EU (dle směrnice RED II / RED III); - stanoviskem nezávislého odborníka / auditora; - certifikátem atd. | D20: Vyberte odpověď | E20: =IF(D20="ano","Doložte naplnění cíle - uveďte odkazy na doložené dokumenty, atp. ","")
A21: {=_xlfn.XLOOKUP(A$6,'Zdrojová data'!D$4:DW$4,IF('Zdrojová data'!D17:DW17=1,'Zdrojová data'!A17,""))} -> 1. Zmírňování změny klimatu | B21: {=_xlfn.XLOOKUP(A$6,'Zdrojová data'!D$4:CW$4,IF('Zdrojová data'!D17:CW17=1,'Zdrojová data'!B17,""))} -> 7c) Při podpoře kotlů na biomasu je podpora poskytovaná: • V souladu s kritérii udržitelnosti a úspor emisí skleníkových plynů stanovenými v článku 29 směrnice (EU) 2018/2001 o podpoře využívání energie z obnovitelných zdrojů („směrnice o obnovitelných zdrojích energie“, „RED II“). Tyto požadavky se budou vztahovat na všechna zařízení bez ohledu na prahové hodnoty uvedené ve směrnici RED II. • V souladu s posouzením trajektorií udržitelného využívání bioenergie a dodávek biomasy v Česku a jeho dopadů na využití půdy, změny ve využití půdy, lesní propady uhlíku a biologickou rozmanitost, jakož i vlivu na kvalitu ovzduší. • Plnit alespoň 80 % úspor emisí skleníkových plynů, která je obecně splněna s ohledem na typ palivového přechodu na biomasu. | C21: {=_xlfn.XLOOKUP(A$6,'Zdrojová data'!D$4:CW$4,IF('Zdrojová data'!D17:CW17=1,'Zdrojová data'!C17,""))} -> Potvrďte, že do projektu byla zahrnuta pouze zařízení, která splňují uvedené podmínky. Pro účely kontroly na místě uchovejte dokumentaci prokazující splnění této podmínky a na vyžádání ji předložte poskytovateli podpory nebo jinému kontrolnímu orgánu. Splnění podmínky lze doložit například: - udržitelností biomasy podle čl. 29 RED II; - certifikátem udržitelnosti (např. systém ISCC, SURE); - prohlášením s doklady o původu paliva (dřevní štěpka z odpadu, certifikované pelety apod.) atd. | D21: Vyberte odpověď | E21: =IF(D21="ano","Doložte naplnění cíle - uveďte odkazy na doložené dokumenty, atp. ","")
A22: {=_xlfn.XLOOKUP(A$6,'Zdrojová data'!D$4:DW$4,IF('Zdrojová data'!D18:DW18=1,'Zdrojová data'!A18,""))} | B22: {=_xlfn.XLOOKUP(A$6,'Zdrojová data'!D$4:CW$4,IF('Zdrojová data'!D18:CW18=1,'Zdrojová data'!B18,""))} | C22: {=_xlfn.XLOOKUP(A$6,'Zdrojová data'!D$4:CW$4,IF('Zdrojová data'!D18:CW18=1,'Zdrojová data'!C18,""))} | D22: Vyberte odpověď | E22: =IF(D22="ano","Doložte naplnění cíle - uveďte odkazy na doložené dokumenty, atp. ","")
A23: {=_xlfn.XLOOKUP(A$6,'Zdrojová data'!D$4:DW$4,IF('Zdrojová data'!D19:DW19=1,'Zdrojová data'!A19,""))} -> 3. Udržitelné využívání a ochrana vodních a mořských zdrojů | B23: {=_xlfn.XLOOKUP(A$6,'Zdrojová data'!D$4:CW$4,IF('Zdrojová data'!D19:CW19=1,'Zdrojová data'!B19,""))} -> 5a) Z OPST lze podporovat sprchy, které mají maximální průtok vody 8 l/min; | C23: {=_xlfn.XLOOKUP(A$6,'Zdrojová data'!D$4:CW$4,IF('Zdrojová data'!D19:CW19=1,'Zdrojová data'!C19,""))} -> Potvrďte, že v rámci projektu byly instalovány pouze sprchy s maximálním průtokem vody 8 l/min. Pro účely kontroly na místě uchovejte dokumentaci prokazující splnění této podmínky a na vyžádání ji předložte poskytovateli podpory nebo jinému kontrolnímu orgánu. Splnění podmínky lze doložit například: -technickým listem instalovaného výrobku, ze kterého je patrné splnění požadovaných parametrů, -projektovou dokumentací, -položkovým rozpočtem, -soupisem dodaných a instalovaných prvků, -jinou relevantní technickou dokumentací projektu. Z předložené dokumentace musí být zřejmé, že instalované sprchy splňují požadovaný maximální průtok 8 l/min. Příjemce potvrzuje, že do projektu byla zahrnuta pouze zařízení, která splňují tuto podmínku. | D23: Vyberte odpověď | E23: =IF(D23="ano","Doložte naplnění cíle - uveďte odkazy na doložené dokumenty, atp. ","")
A24: {=_xlfn.XLOOKUP(A$6,'Zdrojová data'!D$4:DW$4,IF('Zdrojová data'!D20:DW20=1,'Zdrojová data'!A20,""))} -> 3. Udržitelné využívání a ochrana vodních a mořských zdrojů | B24: {=_xlfn.XLOOKUP(A$6,'Zdrojová data'!D$4:CW$4,IF('Zdrojová data'!D20:CW20=1,'Zdrojová data'!B20,""))} -> 5b) Z OPST lze podporovat WC, zahrnující soupravy, mísy a splachovací nádrže, které mají úplný objem splachovací vody maximálně 6 l a maximální průměrný objem splachovací vody 3,5 l; | C24: {=_xlfn.XLOOKUP(A$6,'Zdrojová data'!D$4:CW$4,IF('Zdrojová data'!D20:CW20=1,'Zdrojová data'!C20,""))} -> Potvrďte, že v rámci projektu byly instalovány pouze WC, které mají úplný objem splachovací vody maximálně 6 l a maximální průměrný objem splachovací vody 3,5 l. Pro účely kontroly na místě uchovejte dokumentaci prokazující splnění této podmínky a na vyžádání ji předložte poskytovateli podpory nebo jinému kontrolnímu orgánu. Splnění podmínky lze doložit například: -technickým listem instalovaného výrobku, ze kterého je patrné splnění požadovaných parametrů, -projektovou dokumentací, -položkovým rozpočtem, -soupisem dodaných a instalovaných prvků, -jinou relevantní technickou dokumentací projektu. Z předložené dokumentace musí být zřejmé, že instalovaná WC splňují požadované parametry. Příjemce potvrzuje, že do projektu byla zahrnuta pouze zařízení, která splňují tuto podmínku. | D24: Vyberte odpověď | E24: =IF(D24="ano","Doložte naplnění cíle - uveďte odkazy na doložené dokumenty, atp. ","")
... A38: {=_xlfn.XLOOKUP(A$6,'Zdrojová data'!D$4:DW$4,IF('Zdrojová data'!D34:DW34=1,'Zdrojová data'!A34,""))} -> Dle typu strategického dokumentu a jeho dopadu 1. Zmírňování změny klimatu 2. Přizpůsobování se změně klimatu 3. Udržitelné využívání a ochrana vodních a mořských zdrojů 4. Přechod na oběhové hospodářství 5. Prevence a omezování znečištění 6. Ochrana a obnova biologické rozmanitosti a ekosystémů | B38: {=_xlfn.XLOOKUP(A$6,'Zdrojová data'!D$4:CW$4,IF('Zdrojová data'!D34:CW34=1,'Zdrojová data'!B34,""))} -> 9. Projekt musí být dle jeho charakteru v souladu s relevantními strategickými dokumenty – např. státní politikou plánování v oblasti vod tvořenou zpracovanými plány pro zvládání povodňových rizik a plány dílčích povodí, plánu rozvoje vodovodů a kanalizací apod. | C38: {=_xlfn.XLOOKUP(A$6,'Zdrojová data'!D$4:CW$4,IF('Zdrojová data'!D34:CW34=1,'Zdrojová data'!C34,""))} -> Popište, jak bylo dané splněno s odkazem na konkrétní dokument. Pro účely kontroly na místě uschovejte dokumentaci prokazující splnění této podmínky a na vyžádání ji předložte poskytovateli podpory nebo jinému kontrolnímu orgánu. Splnění podmínky lze doložit například: - platnou legislativou a povolovacím procesem atd. | D38: Vyberte odpověď | E38: =IF(D38="ano","Doložte naplnění cíle - uveďte odkazy na doložené dokumenty, atp. ","")

Sheet Cíle DNSH
A1: Registrační číslo projektu | B1: ='Specifické podmínky DNSH'!B1 -> 0
A2: Název projektu | B2: ='Specifické podmínky DNSH'!B2 -> 0
A3: Název příjemce | B3: ='Specifické podmínky DNSH'!B3 -> 0
A5: Cíl | B5: Byly porušeny specifické podmínky dle kap. C.13 PrŽaP? | C5: Komentář - popište zda porušení podmínky/podmínek mělo dopad na daný cíl | D5: Dopad na environmentální cíl
A6: 1. Zmírňování změny klimatu | B6: {=IF(OR('Specifické podmínky DNSH'!D9:D21="ne",'Specifické podmínky DNSH'!D38="ne"),"ANO","NE")} -> NE | D6: Realizace projektu ani jeho výstupy nevedly k významným emisím skleníkových plynů. Uveďte, jakými postupy a opatřeními zajistil, aby projekt nepoškozoval klimatický cíl zmírňování změny klimatu, případně jakými kroky významně přispíval k plnění tohoto cíle
A7: 2. Přizpůsobování se změně klimatu | B7: =IF(OR('Specifické podmínky DNSH'!D22="ne",'Specifické podmínky DNSH'!D38="ne"),"ANO","NE") -> NE | D7: Realizace projektu ani jeho výstupy významně nepoškozovaly klimatický cíl adaptace a byla zavedena vhodná opatření proti hlavním projevům změny klimatu v ČR (dlouhodobé sucho, povodně a přívalové povodně, vydatné srážky, zvyšování teplot, extrémně vysoké teploty, extrémní vítr, požáry vegetace) a souvisejícím rizikům, nebo byla rizika vhodně přizpůsobena.
A8: 3. Udržitelné využívání a ochrana vodních a mořských zdrojů | B8: {=IF(OR('Specifické podmínky DNSH'!D23:D27="ne",'Specifické podmínky DNSH'!D38="ne"),"ANO","NE")} -> NE | D8: Realizace projektu ani jeho výstupy významně nepoškozovaly klimatický cíl udržitelné využívání a ochranu vodních zdrojů ve smyslu poškození dobrého stavu útvarů povrchových vod (chemický stav a ekologický stav nebo potenciál) a útvarů podzemních vod (chemický a kvantitativní stav), nebo nezapříčinily zhoršení stávajícího stavu, případně jakými kroky významně přispíval k plnění tohoto cíle.
A9: 4. Přechod na oběhové hospodářství | B9: {=IF(OR('Specifické podmínky DNSH'!D28:D32="ne",'Specifické podmínky DNSH'!D38="ne"),"ANO","NE")} -> NE | D9: Realizace projektu ani jeho výstupy významně nepoškozovaly klimatický cíl oběhové hospodářství, včetně předcházení vzniku odpadů a recyklace, tzn. nevedly k významné nehospodárnosti v používání materiálů nebo v přímém nebo nepřímém využívání přírodních zdrojů nebo významně nepřispívaly ke vzniku, spalování bez energetického využití nebo odstraňování (skládkování) odpadu, případně jakými kroky významně přispíval k plnění tohoto cíle.
A10: 5. Prevence a omezování znečištění | B10: =IF(OR('Specifické podmínky DNSH'!D33="ne",'Specifické podmínky DNSH'!D38="ne"),"ANO","NE") -> NE | D10: Realizace projektu ani jeho výstupy významně nepoškozovaly klimatický cíl prevenci a omezování znečištění ve smyslu, tzn., že omezovaly znečištění a působily preventivně vůči dalšímu znečišťování životního prostředí. Za poškození se považuje zejm. pokud by činnost vedla k významnému zvýšení emisí znečišťujících látek do ovzduší, vody a půdy.
A11: 6. Ochrana a obnova biologické rozmanitosti a ekosystémů | B11: {=IF(OR('Specifické podmínky DNSH'!D34:D37="ne",'Specifické podmínky DNSH'!D38="ne"),"ANO","NE")} -> NE | D11: Realizace projektu ani jeho výstupy významně nepoškozovaly klimatický cíl ochranu a obnovu biologické rozmanitosti a ekosystémů, zejm. ve významné míře nepoškodily dobrý stav a odolnost ekosystémů nebo stav stanovišť a druhů z hlediska jejich ochran, případně jakými kroky významně přispíval k plnění tohoto cíle.

Sheet Zdrojová data
D1: Strategické projekty | E1: Strategické projekty | F1: Strategické projekty | G1: Odborné učebny ve středních školách | H1: Odborné učebny ve středních školách | I1: Odborné učebny ve středních školách | J1: Konektivita škol | K1: Konektivita škol | L1: Konektivita škol | M1: Oběhové hospodářství | N1: Oběhové hospodářství | O1: Oběhové hospodářství | P1: Digitalizace pečovatelských služeb | Q1: Řemeslné inkubátory | R1: Řemeslné inkubátory | S1: Řemeslné inkubátory | T1: Obnova území - koncepce a příprava projektů | U1: Obnova území - koncepce a příprava projektů | V1: Obnova území - koncepce a příprava projektů | W1: Obnova území - příroda a krajina | X1: Obnova území - příroda a krajina | Y1: Obnova území - příroda a krajina | Z1: Obnova území - infrastruktura | AA1: Obnova území - infrastruktura | AB1: Obnova území - infrastruktura | AC1: Vzdělávání ve firmách | AD1: Vzdělávání ve firmách | AE1: Vzdělávání ve firmách | AF1: Obnova území - strategické brownfieldy (příprava a technická infrastruktura) | AG1: Předprojektová příprava strategických projektů a brownfieldů | AH1: Předprojektová příprava strategických projektů a brownfieldů | AI1: Předprojektová příprava strategických projektů a brownfieldů | AJ1: Obnova území - Veřejné služby, kultura, sport a rekreace | AK1: Obnova území - Veřejné služby, kultura, sport a rekreace | AL1: Obnova území - Veřejné služby, kultura, sport a rekreace | AM1: Strategický projekt Green mine - celková revitalizace a resocializace lomu ČSA | AN1: Podpora zeměstnanosti | AO1: Oběhové hospodářství | AP1: Rozvoj vodíkových údolí - podpora strategického plánování | AQ1: Rozvoj vodíkových údolí - podpora strategického plánování | AR1: Rozvoj vodíkových údolí - podpora strategického plánování | AS1: Posílení sociální stability | AT1: Posílení sociální stability | AU1: Kulturní a kreativní centra | AV1: Strategický projekt GET centrum UJEP | AW1: Zájmové vzdělávání a osvěta | AX1: Zájmové vzdělávání a osvěta | AY1: Zájmové vzdělávání a osvěta | AZ1: Infrastruktura pro další vzdělávání | BA1: Infrastruktura pro další vzdělávání | BB1: Infrastruktura pro další vzdělávání | BC1: Podpora výzkumu a vývoje v Ústeckém kraji | BD1: Rozvoj vodíkových údolí - podpora strategického plánování | BE1: Podpora regionálního školství | BF1: Podpora regionálního školství | BG1: Podpora regionálního školství | BH1: Konektivita škol II. | BI1: Konektivita škol II. | BJ1: Obnova území - Veřejné služby, kultura, sport a rekreace II | BK1: Obnova území - Veřejné služby, kultura, sport a rekreace II | BL1: Obnova území - Veřejné služby, kultura, sport a rekreace II | BM1: Budování výzkumných kapacit | BN1: Budování výzkumných kapacit | BO1: Regionální školství - rozšířená výzva | BP1: Regionální školství - rozšířená výzva | BQ1: Obnova území - koncepce a příprava prjektů II. | BR1: Obnova území - koncepce a příprava prjektů II. | BS1: Odborné učebny II. | BT1: Kulturní a kreativní centra - Moravskoslezský kraj | BU1: Podpora oběhového hospodářství | BV1: Podpora oběhového hospodářství | BW1: Snižování energetické náročnosti veřejných budov | BX1: Snižování energetické náročnosti veřejných budov | BY1: Snižování energetické náročnosti veřejných budov | BZ1: Snižování energetické náročnosti ve veřejné infrastruktuře | CA1: Snižování energetické náročnosti ve veřejné infrastruktuře | CB1: Snižování energetické náročnosti ve veřejné infrastruktuře | CC1: Navazující projektová příprava strategických projektů | CD1: Navazující projektová příprava strategických projektů | CE1: Digitální inovace v oblasti záchranných a bezpečnostních složek Karlovarského kraje | CF1: Kulturní a kreativní centra - Karlovarský kraj | CG1: Podpora výzkumu a vývoje v Moravskoslezském kraji | CH1: Příprava strategických projektů pro programové období 2028+ | CI1: Příprava strategických projektů pro programové období 2028+ | CJ1: Příprava strategických projektů pro programové období 2028+ | CK1: Základní umělecké školy | CL1: Základní umělecké školy
T2: Podmínky DNSH jsou relevantní pouze pro aktivitu 2. U této aktivity není nutné prokazovat splnění podmínek ve sloupci C; u relevantních bodů pouze stručně popište, jak byly zohledněny v projektové přípravě budoucího projektu. | U2: Podmínky DNSH jsou relevantní pouze pro aktivitu 2. U této aktivity není nutné prokazovat splnění podmínek ve sloupci C; u relevantních bodů pouze stručně popište, jak byly zohledněny v projektové přípravě budoucího projektu. | V2: Podmínky DNSH jsou relevantní pouze pro aktivitu 2. U této aktivity není nutné prokazovat splnění podmínek ve sloupci C; u relevantních bodů pouze stručně popište, jak byly zohledněny v projektové přípravě budoucího projektu. | W2: Aktivity této výzvy svou povahou plně naplňují podmínky DNSH. | X2: Aktivity této výzvy svou povahou plně naplňují podmínky DNSH. | Y2: Aktivity této výzvy svou povahou plně naplňují podmínky DNSH. | Z2: Podmínky 1a, 2a a 2b platí pro všechny projekty. Podmínky 2c, 2d, 2e, 3 a 4 platí v případě, že součástí projektu je výstavba nebo rekonstrukce budovy. Podmínky 5, 7b a 8 platí v případě, že jsou součástí způsobilých výdajů odpovídající položky. | AA2: Podmínky 1a, 2a a 2b platí pro všechny projekty. Podmínky 2c, 2d, 2e, 3 a 4 platí v případě, že součástí projektu je výstavba nebo rekonstrukce budovy. Podmínky 5, 7b a 8 platí v případě, že jsou součástí způsobilých výdajů odpovídající položky. | AB2: Podmínky 1a, 2a a 2b platí pro všechny projekty. Podmínky 2c, 2d, 2e, 3 a 4 platí v případě, že součástí projektu je výstavba nebo rekonstrukce budovy. Podmínky 5, 7b a 8 platí v případě, že jsou součástí způsobilých výdajů odpovídající položky. | AC2: Splnění podmínek DNSH dokládá žadatel pouze pro doplňkovou aktivitu Investice. | AD2: Splnění podmínek DNSH dokládá žadatel pouze pro doplňkovou aktivitu Investice. | AE2: Splnění podmínek DNSH dokládá žadatel pouze pro doplňkovou aktivitu Investice. | AF2: U aktivity 1 není nutné prokazovat splnění podmínek ve sloupci C; u relevantních bodů pouze stručně popište, jak byly zohledněny v projektové přípravě budoucího projektu. | AG2: Podmínky DNSH dle kapitoly C.13 PrŽaP nejsou pro projekty této výzvy relevantní. | AH2: Podmínky DNSH dle kapitoly C.13 PrŽaP nejsou pro projekty této výzvy relevantní. | AI2: Podmínky DNSH dle kapitoly C.13 PrŽaP nejsou pro projekty této výzvy relevantní. | AN2: Podmínky DNSH dle kapitoly C.13 PrŽaP nejsou pro projekty této výzvy relevantní. | AP2: Podmínky DNSH dle kapitoly C.13 PrŽaP nejsou pro projekty této výzvy relevantní. | AQ2: Podmínky DNSH dle kapitoly C.13 PrŽaP nejsou pro projekty této výzvy relevantní. | AR2: Podmínky DNSH dle kapitoly C.13 PrŽaP nejsou pro projekty této výzvy relevantní. | AS2: Podmínky DNSH dle kapitoly C.13 PrŽaP nejsou pro projekty této výzvy relevantní. | AT2: Podmínky DNSH dle kapitoly C.13 PrŽaP nejsou pro projekty této výzvy relevantní. | AW2: Podmínky DNSH dle kapitoly C.13 PrŽaP nejsou pro projekty této výzvy relevantní. | AX2: Podmínky DNSH dle kapitoly C.13 PrŽaP nejsou pro projekty této výzvy relevantní. | AY2: Podmínky DNSH dle kapitoly C.13 PrŽaP nejsou pro projekty této výzvy relevantní. | AZ2: V případě Aktivity 1 musí projekt naplnit podmínky 1 - 5, 7 a 8 kapitoly C.13. V případě Aktivity 2 pouze relevantní podmínky DNSH dle kapitoly C.13. U aktivity 2 není nutné prokazovat splnění podmínek ve sloupci C; u relevantních bodů pouze stručně popište, jak byly zohledněny v projektové přípravě budoucího projektu. | BA2: V případě Aktivity 1 musí projekt naplnit podmínky 1 - 5, 7 a 8 kapitoly C.13. V případě Aktivity 2 pouze relevantní podmínky DNSH dle kapitoly C.13. | BB2: V případě Aktivity 1 musí projekt naplnit podmínky 1 - 5, 7 a 8 kapitoly C.13. V případě Aktivity 2 pouze relevantní podmínky DNSH dle kapitoly C.13. | BD2: Podmínky DNSH dle kapitoly C.13 PrŽaP nejsou pro projekty této výzvy relevantní. | BJ2: Pro aktivity 1.2 a 2.1 není podmínka č. 11 relevantní. | BK2: Pro aktivity 1.2 a 2.1 není podmínka č. 11 relevantní. | BL2: Pro aktivity 1.2 a 2.1 není podmínka č. 11 relevantní. | BM2: Pouze relevantní podmínky DNSH. | BN2: Pouze relevantní podmínky DNSH. | BQ2: Podmínky DNSH jsou relevantní pouze pro aktivitu 2. U této aktivity není nutné prokazovat splnění podmínek ve sloupci C; u relevantních bodů pouze stručně popište, jak byly zohledněny v projektové přípravě budoucího projektu. | BR2: Podmínky DNSH jsou relevantní pouze pro aktivitu 2. U této aktivity není nutné prokazovat splnění podmínek ve sloupci C; u relevantních bodů pouze stručně popište, jak byly zohledněny v projektové přípravě budoucího projektu. | BU2: Pouze relevantní podmínky DNSH. | BV2: Pouze relevantní podmínky DNSH. | CC2: U této výzvy není nutné prokazovat splnění podmínek ve sloupci C; u relevantních bodů pouze stručně popište, jak byly zohledněny v projektové přípravě budoucího projektu. | CD2: U této výzvy není nutné prokazovat splnění podmínek ve sloupci C; u relevantních bodů pouze stručně popište, jak byly zohledněny v projektové přípravě budoucího projektu. | CE2: Pouze relevantní podmínky DNSH. | CG2: Projekty musí dodržet relevantní podmínky podle bodů 1 - 10 kapitoly C.13 PrŽaP. Chybí 11 a 12. | CH2: U této výzvy není nutné prokazovat splnění podmínek ve sloupci C; u relevantních bodů pouze stručně popište, jak byly zohledněny v projektové přípravě budoucího projektu. | CI2: U této výzvy není nutné prokazovat splnění podmínek ve sloupci C; u relevantních bodů pouze stručně popište, jak byly zohledněny v projektové přípravě budoucího projektu. | CJ2: U této výzvy není nutné prokazovat splnění podmínek ve sloupci C; u relevantních bodů pouze stručně popište, jak byly zohledněny v projektové přípravě budoucího projektu. | CM2: Podmínky DNSH dle kapitoly C.13 PrŽaP nejsou pro projekty této výzvy relevantní.
D3: D.3 | E3: D.3 | F3: D.3 | G3: D.6 | H3: D.6 | I3: D.6 | J3: D.5 | K3: D.5 | L3: D.5 | M3: D.4 | N3: D.4 | O3: D.4 | P3: D.7 | Q3: D.15 | R3: D.15 | S3: D.15 | T3: D.8 | U3: D.8 | V3: D.8 | W3: D.9 | X3: D.9 | Y3: D.9 | Z3: D.10 | AA3: D.10 | AB3: D.10 | AC3: D.13 | AD3: D.13 | AE3: D.13 | AF3: D.11 | AG3: D.12 | AH3: D.12 | AI3: D.12 | AJ3: D.14 | AK3: D.14 | AL3: D.14 | AM3: D.3 | AN3: D.16 | AO3: D.4 | AP3: D.17 | AQ3: D.17 | AR3: D.17 | AS3: D.18, D.19, D.20 | AU3: D.22 | AV3: D.3 | AW3: D.23 | AX3: D.23 | AY3: D.23 | AZ3: D.21 | BA3: D.21 | BB3: D.21 | BC3: D.25 | BD3: D.17 | BE3: D.24 | BF3: D.24 | BG3: D.24 | BH3: D.26 | BI3: D.26 | BJ3: D.28 | BK3: D.28 | BL3: D.28 | BM3: D.32 | BN3: D.32 | BO3: D.29 | BP3: D.29 | BQ3: D.27 | BR3: D.27 | BS3: D.31 | BT3: D.30 | BU3: D.33 | BV3: D.33 | BW3: D.34 | BX3: D.34 | BY3: D.34 | BZ3: D.35 | CA3: D.35 | CB3: D.35 | CC3: D.36 | CD3: D.36 | CE3: D.37 | CF3: D.38 | CG3: D.39 | CH3: D.41 | CI3: D.41 | CJ3: D.41 | CK3: D.40 | CL3: D.40 | CM3: D.42
A4: Cíl | B4: Podmínka DNSH | C4: Způsob prokázání splnění podmínky | D4: 22_001 | E4: 22_002 | F4: 22_003 | G4: 23_005 | H4: 23_006 | I4: 23_007 | J4: 23_008 | K4: 23_009 | L4: 23_010 | M4: 23_011 | N4: 23_012 | O4: 23_013 | P4: 23_017 | Q4: 23_019 | R4: 23_020 | S4: 23_021 | T4: 23_022 | U4: 23_023 | V4: 23_024 | W4: 23_025 | X4: 23_026 | Y4: 23_027 | Z4: 23_028 | AA4: 23_029 | AB4: 23_030 | AC4: 23_031 | AD4: 23_032 | AE4: 23_033 | AF4: 23_034 | AG4: 23_035 | AH4: 23_036 | AI4: 23_037 | AJ4: 23_039 | AK4: 23_040 | AL4: 23_041 | AM4: 24_048 | AN4: 24_051 | AO4: 24_052 | AP4: 24_053 | AQ4: 24_054 | AR4: 24_055 | AS4: 24_058 | AT4: 24_059 | AU4: 24_060 | AV4: 24_061 | AW4: 24_062 | AX4: 24_063 | AY4: 24_064 | AZ4: 24_065 | BA4: 24_066 | BB4: 24_067 | BC4: 24_068 | BD4: 24_069 | BE4: 24_070 | BF4: 24_071 | BG4: 24_072 | BH4: 25_076 | BI4: 25_077 | BJ4: 25_078 | BK4: 25_079 | BL4: 25_080 | BM4: 25_081 | BN4: 25_082 | BO4: 25_083 | BP4: 25_084 | BQ4: 25_085 | BR4: 25_086 | BS4: 25_087 | BT4: 25_088 | BU4: 25_089 | BV4: 25_090 | BW4: 25_091 | BX4: 25_092 | BY4: 25_093 | BZ4: 25_094 | CA4: 25_095 | CB4: 25_096 | CC4: 25_097 | CD4: 25_098 | CE4: 25_100 | CF4: 25_103 | CG4: 25_104 | CH4: 26_105 | CI4: 26_106 | CJ4: 26_107 | CK4: 26_108 | CL4: 26_109 | CM4: 26_113
A5: 1. Zmírňování změny klimatu | B5: 1a) Z OPST nelze podporovat investice do výroby, zpracování, přepravy, distribuce, skladování nebo spalování fosilních paliv včetně investic do materiálního využití fosilních paliv | C5: Potvrďte, že projekt nezahrnoval uvedené typy výdajů. | D5: 1 | E5: 1 | F5: 1 | G5: 1 | H5: 1 | I5: 1 | J5: 1 | K5: 1 | L5: 1 | M5: 1 | N5: 1 | O5: 1 | Q5: 1 | R5: 1 | S5: 1 | T5: 1 | U5: 1 | V5: 1 | Z5: 1 | AA5: 1 | AB5: 1 | AC5: 1 | AD5: 1 | AE5: 1 | AF5: 1 | AJ5: 1 | AK5: 1 | AL5: 1 | AM5: 1 | AO5: 1 | AU5: 1 | AV5: 1 | AZ5: 1 | BA5: 1 | BB5: 1 | BC5: 1 | BE5: 1 | BF5: 1 | BG5: 1 | BH5: 1 | BI5: 1 | BJ5: 1 | BK5: 1 | BL5: 1 | BM5: 1 | BN5: 1 | BO5: 1 | BP5: 1 | BQ5: 1 | BR5: 1 | BS5: 1 | BT5: 1 | BU5: 1 | BV5: 1 | BW5: 1 | BX5: 1 | BY5: 1 | BZ5: 1 | CA5: 1 | CB5: 1 | CC5: 1 | CD5: 1 | CE5: 1 | CF5: 1 | CG5: 1 | CH5: 1 | CI5: 1 | CJ5: 1 | CK5: 1 | CL5: 1
A6: 1. Zmírňování změny klimatu | B6: 1b) Z OPST nelze podporovat investice snižující emise skleníkových plynů v zařízení ETS | C6: Potvrďte, že projekt nezahrnoval uvedené typy výdajů. | D6: 1 | E6: 1 | F6: 1 | G6: 1 | H6: 1 | I6: 1 | J6: 1 | K6: 1 | L6: 1 | M6: 1 | N6: 1 | O6: 1 | T6: 1 | U6: 1 | V6: 1 | AC6: 1 | AD6: 1 | AE6: 1 | AF6: 1 | AJ6: 1 | AK6: 1 | AL6: 1 | AM6: 1 | AO6: 1 | AV6: 1 | AZ6: 1 | BA6: 1 | BB6: 1 | BC6: 1 | BE6: 1 | BF6: 1 | BG6: 1 | BH6: 1 | BI6: 1 | BJ6: 1 | BK6: 1 | BL6: 1 | BM6: 1 | BN6: 1 | BO6: 1 | BP6: 1 | BQ6: 1 | BR6: 1 | BS6: 1 | BU6: 1 | BV6: 1 | BW6: 1 | BX6: 1 | BY6: 1 | BZ6: 1 | CA6: 1 | CB6: 1 | CC6: 1 | CD6: 1 | CE6: 1 | CG6: 1 | CH6: 1 | CI6: 1 | CJ6: 1 | CK6: 1 | CL6: 1
A7: 1. Zmírňování změny klimatu | B7: 1c) Z OPST nelze podporovat investice zaměřené na energetické využití odpadů | C7: Potvrďte, že projekt nezahrnoval uvedené typy výdajů. | D7: 1 | E7: 1 | F7: 1 | G7: 1 | H7: 1 | I7: 1 | J7: 1 | K7: 1 | L7: 1 | M7: 1 | N7: 1 | O7: 1 | T7: 1 | U7: 1 | V7: 1 | AC7: 1 | AD7: 1 | AE7: 1 | AF7: 1 | AJ7: 1 | AK7: 1 | AL7: 1 | AM7: 1 | AO7: 1 | AV7: 1 | AZ7: 1 | BA7: 1 | BB7: 1 | BC7: 1 | BE7: 1 | BF7: 1 | BG7: 1 | BH7: 1 | BI7: 1 | BJ7: 1 | BK7: 1 | BL7: 1 | BM7: 1 | BN7: 1 | BO7: 1 | BP7: 1 | BQ7: 1 | BR7: 1 | BS7: 1 | BU7: 1 | BV7: 1 | BW7: 1 | BX7: 1 | BY7: 1 | BZ7: 1 | CA7: 1 | CB7: 1 | CC7: 1 | CD7: 1 | CE7: 1 | CG7: 1 | CH7: 1 | CI7: 1 | CJ7: 1 | CK7: 1 | CL7: 1
A8: 1. Zmírňování změny klimatu | B8: 3a) Z OPST lze podporovat výstavbu nové budovy pouze za podmínky, že spotřeba primární energie definující energetickou náročnost budovy, která je výsledkem výstavby, je nejméně o 20 % nižší než prahová hodnota, kterou u požadavků na budovy s téměř nulovou spotřebou energie stanoví vnitrostátní opatření provádějící směrnici Evropského parlamentu a Rady 2010/31/EU. Uvedenou podmínku není nutné splnit v případě: • výstavby budov s celkovou energeticky vztažnou plochou menší než 50 m2, • výstavby skladů, průmyslových a výrobních provozů či dílenských provozoven, • tzv. drobné stavby dle přílohy č.1 zákona 283/2021 Sb. (stavební zákon), v platném znění. | C8: Potvrďte, že byl k žádosti o podporu doložen PENB. | D8: 1 | E8: 1 | F8: 1 | G8: 1 | H8: 1 | I8: 1 | J8: 1 | K8: 1 | L8: 1 | M8: 1 | N8: 1 | O8: 1 | Q8: 1 | R8: 1 | S8: 1 | T8: 1 | U8: 1 | V8: 1 | Z8: 1 | AA8: 1 | AB8: 1 | AF8: 1 | AJ8: 1 | AK8: 1 | AL8: 1 | AM8: 1 | AO8: 1 | AV8: 1 | AZ8: 1 | BA8: 1 | BB8: 1 | BC8: 1 | BE8: 1 | BF8: 1 | BG8: 1 | BH8: 1 | BI8: 1 | BJ8: 1 | BK8: 1 | BL8: 1 | BM8: 1 | BN8: 1 | BO8: 1 | BP8: 1 | BQ8: 1 | BR8: 1 | BS8: 1 | BU8: 1 | BV8: 1 | BW8: 1 | BX8: 1 | BY8: 1 | BZ8: 1 | CA8: 1 | CB8: 1 | CC8: 1 | CD8: 1 | CE8: 1 | CG8: 1 | CH8: 1 | CI8: 1 | CJ8: 1 | CK8: 1 | CL8: 1
A9: 1. Zmírňování změny klimatu | B9: 4a) Při renovaci budovy (konstrukce obálky budovy, energetické zdroje, či realizace dalších opatření vedoucích ke snížené energetické náročnosti budovy) musí dojít k úspoře minimálně 30 % primární energie z neobnovitelných zdrojů. V odůvodněných případech je možné dosáhnout i nižší úspory a to např.: • pokud je renovace obálky budovy v rozsahu do 25 % z celkové plochy obálky budovy, • v minulosti již byla provedena dílčí renovace, vedoucí ke snížení energetické náročnosti budovy, • existují omezení z důvodu památkové ochrany budovy v souladu s § 7 odst. 5 zákona č. 406/2000 Sb., o hospodaření energií, ve znění pozdějších předpisů, • vzhledem k charakteru budovy by se jednalo o nákladově neefektivní opatření; Důvod (důvody), proč není možné limitní úspory dosáhnout, budou objektivně doloženy k žádosti o podporu, prostřednictvím Energetického posudku, který definuje maximálně možnou hodnotu energetických úspor dosažitelnou realizovaných projektem. Tato hodnota bude povinným závazkem projektu. Uvedenou podmínku není nutné splnit v případě: • budov s celkovou energeticky vztažnou plochou menší než 50 m2, • skladů, průmyslových, výrobních provozů, dílenských provozoven se spotřebou energie do 195 MWh za rok, za podmínky, že Příjemce podpory tuto skutečnost prokazatelně doloží společně se Žádostí o podporu; • tzv. drobných staveb dle přílohy č. 1 zákona 283/2021 Sb. (stavební zákon), v platném znění. | C9: Potvrďte, že bylo předloženo nejpozději k ZZoR/ZŽoP Stanovisko zpracovatele energetického posudku zpracované podle vzoru zveřejněného na www.opst.cz v sekci Ostatní dokumenty. Tento požadavek se nevztahuje na projekty výzev č. 91 - 96. V těchto případech je vzor stanoviska energetického posudku součástí dokumentace příslušné výzvy. | D9: 1 | E9: 1 | F9: 1 | G9: 1 | H9: 1 | I9: 1 | J9: 1 | K9: 1 | L9: 1 | M9: 1 | N9: 1 | O9: 1 | Q9: 1 | R9: 1 | S9: 1 | T9: 1 | U9: 1 | V9: 1 | Z9: 1 | AA9: 1 | AB9: 1 | AF9: 1 | AJ9: 1 | AK9: 1 | AL9: 1 | AM9: 1 | AO9: 1 | AU9: 1 | AV9: 1 | AZ9: 1 | BA9: 1 | BB9: 1 | BC9: 1 | BE9: 1 | BF9: 1 | BG9: 1 | BH9: 1 | BI9: 1 | BJ9: 1 | BK9: 1 | BL9: 1 | BM9: 1 | BN9: 1 | BO9: 1 | BP9: 1 | BQ9: 1 | BR9: 1 | BS9: 1 | BT9: 1 | BU9: 1 | BV9: 1 | BW9: 1 | BX9: 1 | BY9: 1 | BZ9: 1 | CA9: 1 | CB9: 1 | CC9: 1 | CD9: 1 | CE9: 1 | CF9: 1 | CG9: 1 | CH9: 1 | CI9: 1 | CJ9: 1 | CK9: 1 | CL9: 1
A10: 1. Zmírňování změny klimatu | B10: 4b) V rámci snižování energetické náročnosti technologických procesů musejí všechny nové spotřebiče splňovat nejvyšší dostupnou energetickou třídu dle příslušné legislativy pro daný typ spotřebiče. | C10: Potvrďte, že do projektu byly zahrnuty pouze spotřebiče, které splňují tuto podmínku. V případě pořízení spotřebičů s nižší energetickou třídou doložte záznam o průzkumu trhu se spotřebiči obdobných typových a technických specifikací. Pro účely kontroly na místě uchovejte dokumentaci prokazující splnění této podmínky a na vyžádání ji předložte poskytovateli podpory nebo jinému kontrolnímu orgánu. Splnění podmínky lze doložit například: - energetickým štítkem spotřebiče; - technickým listem atd. | D10: 1 | E10: 1 | F10: 1 | G10: 1 | H10: 1 | I10: 1 | J10: 1 | K10: 1 | L10: 1 | M10: 1 | N10: 1 | O10: 1 | P10: 1 | Q10: 1 | R10: 1 | S10: 1 | T10: 1 | U10: 1 | V10: 1 | Z10: 1 | AA10: 1 | AB10: 1 | AF10: 1 | AJ10: 1 | AK10: 1 | AL10: 1 | AM10: 1 | AO10: 1 | AU10: 1 | AV10: 1 | AZ10: 1 | BA10: 1 | BB10: 1 | BC10: 1 | BE10: 1 | BF10: 1 | BG10: 1 | BH10: 1 | BI10: 1 | BJ10: 1 | BK10: 1 | BL10: 1 | BM10: 1 | BN10: 1 | BO10: 1 | BP10: 1 | BQ10: 1 | BR10: 1 | BS10: 1 | BT10: 1 | BU10: 1 | BV10: 1 | BW10: 1 | BX10: 1 | BY10: 1 | BZ10: 1 | CA10: 1 | CB10: 1 | CC10: 1 | CD10: 1 | CE10: 1 | CF10: 1 | CG10: 1 | CH10: 1 | CI10: 1 | CJ10: 1 | CK10: 1 | CL10: 1
A11: 1. Zmírňování změny klimatu | B11: 4c) V případě realizace výměny/rekonstrukce zdroje tepla na vytápění musí budova po realizaci projektu plnit minimálně parametry energetické náročnosti definované § 6 odst. 2 vyhlášky č. 264/2020 Sb., o energetické náročnosti budov, v platném znění. | C11: Potvrďte, že byl k žádosti o podporu doložen PENB. | D11: 1 | E11: 1 | F11: 1 | G11: 1 | H11: 1 | I11: 1 | J11: 1 | K11: 1 | L11: 1 | M11: 1 | N11: 1 | O11: 1 | Q11: 1 | R11: 1 | S11: 1 | T11: 1 | U11: 1 | V11: 1 | Z11: 1 | AA11: 1 | AB11: 1 | AF11: 1 | AJ11: 1 | AK11: 1 | AL11: 1 | AM11: 1 | AO11: 1 | AU11: 1 | AV11: 1 | AZ11: 1 | BA11: 1 | BB11: 1 | BC11: 1 | BE11: 1 | BF11: 1 | BG11: 1 | BH11: 1 | BI11: 1 | BJ11: 1 | BK11: 1 | BL11: 1 | BM11: 1 | BN11: 1 | BO11: 1 | BP11: 1 | BQ11: 1 | BR11: 1 | BS11: 1 | BT11: 1 | BU11: 1 | BV11: 1 | BW11: 1 | BX11: 1 | BY11: 1 | BZ11: 1 | CA11: 1 | CB11: 1 | CC11: 1 | CD11: 1 | CE11: 1 | CF11: 1 | CG11: 1 | CH11: 1 | CI11: 1 | CJ11: 1 | CK11: 1 | CL11: 1
A12: 1. Zmírňování změny klimatu | B12: 6a) podpořený automobil kategorie M1 a N1 musí mít nulové emise CO2/km | C12: Potvrďte, že do projektu byly zahrnuty pouze automobily, které splňují tuto podmínku. Pro účely kontroly na místě uchovejte dokumentaci prokazující splnění této podmínky a na vyžádání ji předložte poskytovateli podpory nebo jinému kontrolnímu orgánu. Splnění podmínky lze doložit například: - technickým průkazem vozidla/ COC list; - technickým listem výrobce - jiným průkazným dokladem výrobce, z něhož je zřejmé, že vozidlo vykazuje emise 0 g CO₂/km atd. | D12: 1 | E12: 1 | F12: 1 | M12: 1 | N12: 1 | O12: 1 | T12: 1 | U12: 1 | V12: 1 | AC12: 1 | AD12: 1 | AE12: 1 | AF12: 1 | AJ12: 1 | AK12: 1 | AL12: 1 | AM12: 1 | AO12: 1 | AV12: 1 | AZ12: 1 | BA12: 1 | BB12: 1 | BC12: 1 | BH12: 1 | BI12: 1 | BJ12: 1 | BK12: 1 | BL12: 1 | BM12: 1 | BN12: 1 | BQ12: 1 | BR12: 1 | BU12: 1 | BV12: 1 | CC12: 1 | CD12: 1 | CE12: 1 | CG12: 1 | CH12: 1 | CI12: 1 | CJ12: 1
A13: 1. Zmírňování změny klimatu | B13: 6b) v případě pronájmu (operativní leasing) automobil kategorie M1 a N1 musí mít emise nižší než 50 g CO2/km, od 1. 1. 2026 musí být emise nulové do 31. 12. 2025 → ≤ 50 g CO₂/km od 1. 1. 2026 → 0 g CO₂/km | C13: Potvrďte, že do projektu byly zahrnuty pouze automobily, které splňují tuto podmínku. Pro účely kontroly na místě uchovejte dokumentaci prokazující splnění této podmínky a na vyžádání ji předložte poskytovateli podpory nebo jinému kontrolnímu orgánu. Splnění podmínky lze doložit například: - technickým průkazem vozidla/ COC list; - technickým listem výrobce; - jiným průkazným dokladem výrobce, z něhož je zřejmé, že vozidlo vykazuje do 31. 12. 2025 → ≤ 50 g CO₂/km, od 1. 1. 2026 → 0 g CO₂/km. | D13: 1 | E13: 1 | F13: 1 | M13: 1 | N13: 1 | O13: 1 | T13: 1 | U13: 1 | V13: 1 | AC13: 1 | AD13: 1 | AE13: 1 | AF13: 1 | AJ13: 1 | AK13: 1 | AL13: 1 | AM13: 1 | AO13: 1 | AV13: 1 | AZ13: 1 | BA13: 1 | BB13: 1 | BC13: 1 | BH13: 1 | BI13: 1 | BJ13: 1 | BK13: 1 | BL13: 1 | BM13: 1 | BN13: 1 | BQ13: 1 | BR13: 1 | BU13: 1 | BV13: 1 | CC13: 1 | CD13: 1 | CE13: 1 | CG13: 1 | CH13: 1 | CI13: 1 | CJ13: 1
A14: 1. Zmírňování změny klimatu | B14: 6c) u vozidel kategorií N2 a N3 spadajících do oblasti působnosti nařízení (EU) 2019/1242 dosahují specifické přímé emise CO2 nejvýše referenčních emisí CO2 pro všechna vozidla v dané podskupině, jak stanoví článek 3 uvedeného nařízení | C14: Potvrďte, že do projektu byla zahrnuta pouze vozidla, která splňují tuto podmínku. Pro účely kontroly na místě uchovejte dokumentaci prokazující splnění této podmínky a na vyžádání ji předložte poskytovateli podpory nebo jinému kontrolnímu orgánu. Splnění podmínky lze doložit například: - technickým průkazem vozidla; - dokumentací výrobce / schvalovací dokumentace / výstupy z homologace; - jiným technickým dokladem, z něhož bude zřejmé, jaké jsou specifické přímé emise CO₂ daného vozidla a do jaké podskupiny vozidlo náleží atd. | D14: 1 | E14: 1 | F14: 1 | M14: 1 | N14: 1 | O14: 1 | T14: 1 | U14: 1 | V14: 1 | AC14: 1 | AD14: 1 | AE14: 1 | AF14: 1 | AJ14: 1 | AK14: 1 | AL14: 1 | AM14: 1 | AO14: 1 | AV14: 1 | AZ14: 1 | BA14: 1 | BB14: 1 | BC14: 1 | BH14: 1 | BI14: 1 | BJ14: 1 | BK14: 1 | BL14: 1 | BM14: 1 | BN14: 1 | BQ14: 1 | BR14: 1 | BU14: 1 | BV14: 1 | CC14: 1 | CD14: 1 | CE14: 1 | CG14: 1 | CH14: 1 | CI14: 1 | CJ14: 1
A15: 1. Zmírňování změny klimatu | B15: 6d) v případě vozidel pro zvláštní účely, pokud výše uvedená pravidla neplatí, bude podporována nejlepší dostupná technologie v dané kategorii vozidel. | C15: Potvrďte, že do projektu byla zahrnuta pouze vozidla, která splňují tuto podmínku. Pro účely kontroly na místě uchovejte dokumentaci prokazující splnění této podmínky a na vyžádání ji předložte poskytovateli podpory nebo jinému kontrolnímu orgánu. Splnění podmínky lze doložit například: - technickým průkazem vozidla; - technickým listem výrobce; - zdůvodněním, že se jedná o vozidlo pro zvláštní účely, na které nelze aplikovat požadavky bodů 6a–6c vč.odůvodnění výběru technologie atd. | D15: 1 | E15: 1 | F15: 1 | M15: 1 | N15: 1 | O15: 1 | T15: 1 | U15: 1 | V15: 1 | AC15: 1 | AD15: 1 | AE15: 1 | AF15: 1 | AJ15: 1 | AK15: 1 | AL15: 1 | AM15: 1 | AO15: 1 | AV15: 1 | AZ15: 1 | BA15: 1 | BB15: 1 | BC15: 1 | BH15: 1 | BI15: 1 | BJ15: 1 | BK15: 1 | BL15: 1 | BM15: 1 | BN15: 1 | BQ15: 1 | BR15: 1 | BU15: 1 | BV15: 1 | CC15: 1 | CD15: 1 | CE15: 1 | CG15: 1 | CH15: 1 | CI15: 1 | CJ15: 1
A16: 1. Zmírňování změny klimatu | B16: 7a) Při podpoře výroby vodíku je podpora poskytovaná jen na obnovitelný vodík. | C16: Potvrďte, že do projektu byla zahrnuta pouze zařízení, která splňují tuto podmínku. Pro účely kontroly na místě uchovejte dokumentaci prokazující splnění této podmínky a na vyžádání ji předložte poskytovateli podpory nebo jinému kontrolnímu orgánu. Splnění podmínky lze doložit například: - předběžnou certifikací obnovitelného vodíku dle pravidel EU (dle směrnice RED II / RED III); - stanoviskem nezávislého odborníka / auditora; - certifikátem atd. | D16: 1 | E16: 1 | F16: 1 | G16: 1 | H16: 1 | I16: 1 | J16: 1 | K16: 1 | L16: 1 | M16: 1 | N16: 1 | O16: 1 | T16: 1 | U16: 1 | V16: 1 | AC16: 1 | AD16: 1 | AE16: 1 | AF16: 1 | AJ16: 1 | AK16: 1 | AL16: 1 | AM16: 1 | AO16: 1 | AV16: 1 | AZ16: 1 | BA16: 1 | BB16: 1 | BC16: 1 | BE16: 1 | BF16: 1 | BG16: 1 | BH16: 1 | BI16: 1 | BJ16: 1 | BK16: 1 | BL16: 1 | BM16: 1 | BN16: 1 | BO16: 1 | BP16: 1 | BQ16: 1 | BR16: 1 | BS16: 1 | BU16: 1 | BV16: 1 | BW16: 1 | BX16: 1 | BY16: 1 | BZ16: 1 | CA16: 1 | CB16: 1 | CC16: 1 | CD16: 1 | CE16: 1 | CG16: 1 | CH16: 1 | CI16: 1 | CJ16: 1 | CK16: 1 | CL16: 1
A17: 1. Zmírňování změny klimatu | B17: 7c) Při podpoře kotlů na biomasu je podpora poskytovaná: • V souladu s kritérii udržitelnosti a úspor emisí skleníkových plynů stanovenými v článku 29 směrnice (EU) 2018/2001 o podpoře využívání energie z obnovitelných zdrojů („směrnice o obnovitelných zdrojích energie“, „RED II“). Tyto požadavky se budou vztahovat na všechna zařízení bez ohledu na prahové hodnoty uvedené ve směrnici RED II. • V souladu s posouzením trajektorií udržitelného využívání bioenergie a dodávek biomasy v Česku a jeho dopadů na využití půdy, změny ve využití půdy, lesní propady uhlíku a biologickou rozmanitost, jakož i vlivu na kvalitu ovzduší. • Plnit alespoň 80 % úspor emisí skleníkových plynů, která je obecně splněna s ohledem na typ palivového přechodu na biomasu. | C17: Potvrďte, že do projektu byla zahrnuta pouze zařízení, která splňují uvedené podmínky. Pro účely kontroly na místě uchovejte dokumentaci prokazující splnění této podmínky a na vyžádání ji předložte poskytovateli podpory nebo jinému kontrolnímu orgánu. Splnění podmínky lze doložit například: - udržitelností biomasy podle čl. 29 RED II; - certifikátem udržitelnosti (např. systém ISCC, SURE); - prohlášením s doklady o původu paliva (dřevní štěpka z odpadu, certifikované pelety apod.) atd. | D17: 1 | E17: 1 | F17: 1 | G17: 1 | H17: 1 | I17: 1 | J17: 1 | K17: 1 | L17: 1 | M17: 1 | N17: 1 | O17: 1 | Q17: 1 | R17: 1 | S17: 1 | T17: 1 | U17: 1 | V17: 1 | AC17: 1 | AD17: 1 | AE17: 1 | AF17: 1 | AJ17: 1 | AK17: 1 | AL17: 1 | AM17: 1 | AO17: 1 | AU17: 1 | AV17: 1 | AZ17: 1 | BA17: 1 | BB17: 1 | BC17: 1 | BE17: 1 | BF17: 1 | BG17: 1 | BH17: 1 | BI17: 1 | BJ17: 1 | BK17: 1 | BL17: 1 | BM17: 1 | BN17: 1 | BO17: 1 | BP17: 1 | BQ17: 1 | BR17: 1 | BS17: 1 | BT17: 1 | BU17: 1 | BV17: 1 | BW17: 1 | BX17: 1 | BY17: 1 | BZ17: 1 | CA17: 1 | CB17: 1 | CC17: 1 | CD17: 1 | CE17: 1 | CF17: 1 | CG17: 1 | CH17: 1 | CI17: 1 | CJ17: 1 | CK17: 1 | CL17: 1
A18: 2. Přizpůsobování se změně klimatu | B18: 11. Pro rekonstrukce a stavbu nových budov platí, že projekt není realizován v záplavovém území Q100 s výjimkou případů, kdy pro danou lokalitu prokazatelně existují dostatečná protipovodňová opatření. | C18: Popiště, jak bylo dané splněno s odkazem na konkrétní dokument. Splnění podmínky lze doložit například - souhlasem vodoprávního úřadu atd. | Q18: 1 | R18: 1 | S18: 1 | AJ18: 1 | AK18: 1 | AL18: 1 | AU18: 1 | AZ18: 1 | BA18: 1 | BB18: 1 | BC18: 1 | BH18: 1 | BI18: 1 | BJ18: 1 | BK18: 1 | BL18: 1 | BM18: 1 | BN18: 1 | BQ18: 1 | BR18: 1 | BT18: 1 | BU18: 1 | BV18: 1 | CC18: 1 | CD18: 1 | CE18: 1 | CF18: 1 | CH18: 1 | CI18: 1 | CJ18: 1
A19: 3. Udržitelné využívání a ochrana vodních a mořských zdrojů | B19: 5a) Z OPST lze podporovat sprchy, které mají maximální průtok vody 8 l/min; | C19: Potvrďte, že v rámci projektu byly instalovány pouze sprchy s maximálním průtokem vody 8 l/min. Pro účely kontroly na místě uchovejte dokumentaci prokazující splnění této podmínky a na vyžádání ji předložte poskytovateli podpory nebo jinému kontrolnímu orgánu. Splnění podmínky lze doložit například: -technickým listem instalovaného výrobku, ze kterého je patrné splnění požadovaných parametrů, -projektovou dokumentací, -položkovým rozpočtem, -soupisem dodaných a instalovaných prvků, -jinou relevantní technickou dokumentací projektu. Z předložené dokumentace musí být zřejmé, že instalované sprchy splňují požadovaný maximální průtok 8 l/min. Příjemce potvrzuje, že do projektu byla zahrnuta pouze zařízení, která splňují tuto podmínku. | D19: 1 | E19: 1 | F19: 1 | G19: 1 | H19: 1 | I19: 1 | J19: 1 | K19: 1 | L19: 1 | M19: 1 | N19: 1 | O19: 1 | P19: 1 | Q19: 1 | R19: 1 | S19: 1 | T19: 1 | U19: 1 | V19: 1 | Z19: 1 | AA19: 1 | AB19: 1 | AC19: 1 | AD19: 1 | AE19: 1 | AF19: 1 | AJ19: 1 | AK19: 1 | AL19: 1 | AM19: 1 | AO19: 1 | AU19: 1 | AV19: 1 | AZ19: 1 | BA19: 1 | BB19: 1 | BC19: 1 | BE19: 1 | BF19: 1 | BG19: 1 | BH19: 1 | BI19: 1 | BJ19: 1 | BK19: 1 | BL19: 1 | BM19: 1 | BN19: 1 | BO19: 1 | BP19: 1 | BQ19: 1 | BR19: 1 | BS19: 1 | BT19: 1 | BU19: 1 | BV19: 1 | BW19: 1 | BX19: 1 | BY19: 1 | BZ19: 1 | CA19: 1 | CB19: 1 | CC19: 1 | CD19: 1 | CE19: 1 | CF19: 1 | CG19: 1 | CH19: 1 | CI19: 1 | CJ19: 1 | CK19: 1 | CL19: 1
A20: 3. Udržitelné využívání a ochrana vodních a mořských zdrojů | B20: 5b) Z OPST lze podporovat WC, zahrnující soupravy, mísy a splachovací nádrže, které mají úplný objem splachovací vody maximálně 6 l a maximální průměrný objem splachovací vody 3,5 l; | C20: Potvrďte, že v rámci projektu byly instalovány pouze WC, které mají úplný objem splachovací vody maximálně 6 l a maximální průměrný objem splachovací vody 3,5 l. Pro účely kontroly na místě uchovejte dokumentaci prokazující splnění této podmínky a na vyžádání ji předložte poskytovateli podpory nebo jinému kontrolnímu orgánu. Splnění podmínky lze doložit například: -technickým listem instalovaného výrobku, ze kterého je patrné splnění požadovaných parametrů, -projektovou dokumentací, -položkovým rozpočtem, -soupisem dodaných a instalovaných prvků, -jinou relevantní technickou dokumentací projektu. Z předložené dokumentace musí být zřejmé, že instalovaná WC splňují požadované parametry. Příjemce potvrzuje, že do projektu byla zahrnuta pouze zařízení, která splňují tuto podmínku. | D20: 1 | E20: 1 | F20: 1 | G20: 1 | H20: 1 | I20: 1 | J20: 1 | K20: 1 | L20: 1 | M20: 1 | N20: 1 | O20: 1 | P20: 1 | Q20: 1 | R20: 1 | S20: 1 | T20: 1 | U20: 1 | V20: 1 | Z20: 1 | AA20: 1 | AB20: 1 | AC20: 1 | AD20: 1 | AE20: 1 | AF20: 1 | AJ20: 1 | AK20: 1 | AL20: 1 | AM20: 1 | AO20: 1 | AU20: 1 | AV20: 1 | AZ20: 1 | BA20: 1 | BB20: 1 | BC20: 1 | BE20: 1 | BF20: 1 | BG20: 1 | BH20: 1 | BI20: 1 | BJ20: 1 | BK20: 1 | BL20: 1 | BM20: 1 | BN20: 1 | BO20: 1 | BP20: 1 | BQ20: 1 | BR20: 1 | BS20: 1 | BT20: 1 | BU20: 1 | BV20: 1 | BW20: 1 | BX20: 1 | BY20: 1 | BZ20: 1 | CA20: 1 | CB20: 1 | CC20: 1 | CD20: 1 | CE20: 1 | CF20: 1 | CG20: 1 | CH20: 1 | CI20: 1 | CJ20: 1 | CK20: 1 | CL20: 1
A21: 3. Udržitelné využívání a ochrana vodních a mořských zdrojů | B21: 5c) Z OPST lze podporovat pisoáry, které spotřebují maximálně 2 l/mísu/hodinu. Splachovací pisoáry mají maximální úplný objem splachovací vody 1 l; | C21: Potvrďte, že v rámci projektu byly instalovány pouze pisoáry, které spotřebují maximálně 2 l/mísu/hod. Splachovací pisoáry splňují maximální úplný objem splachovací vody 1 l. Pro účely kontroly na místě uchovejte dokumentaci prokazující splnění této podmínky a na vyžádání ji předložte poskytovateli podpory nebo jinému kontrolnímu orgánu. Splnění podmínky lze doložit například: -technickým listem instalovaného výrobku, ze kterého je patrné splnění požadovaných parametrů, -projektovou dokumentací, -položkovým rozpočtem, -soupisem dodaných a instalovaných prvků, -jinou relevantní technickou dokumentací projektu. Z předložené dokumentace musí být zřejmé, že instalované pisoáry splňují požadované parametry. Příjemce potvrzuje, že do projektu byla zahrnuta pouze zařízení, která splňují tuto podmínku. | D21: 1 | E21: 1 | F21: 1 | G21: 1 | H21: 1 | I21: 1 | J21: 1 | K21: 1 | L21: 1 | M21: 1 | N21: 1 | O21: 1 | P21: 1 | Q21: 1 | R21: 1 | S21: 1 | T21: 1 | U21: 1 | V21: 1 | Z21: 1 | AA21: 1 | AB21: 1 | AC21: 1 | AD21: 1 | AE21: 1 | AF21: 1 | AJ21: 1 | AK21: 1 | AL21: 1 | AM21: 1 | AO21: 1 | AU21: 1 | AV21: 1 | AZ21: 1 | BA21: 1 | BB21: 1 | BC21: 1 | BE21: 1 | BF21: 1 | BG21: 1 | BH21: 1 | BI21: 1 | BJ21: 1 | BK21: 1 | BL21: 1 | BM21: 1 | BN21: 1 | BO21: 1 | BP21: 1 | BQ21: 1 | BR21: 1 | BS21: 1 | BT21: 1 | BU21: 1 | BV21: 1 | BW21: 1 | BX21: 1 | BY21: 1 | BZ21: 1 | CA21: 1 | CB21: 1 | CC21: 1 | CD21: 1 | CE21: 1 | CF21: 1 | CG21: 1 | CH21: 1 | CI21: 1 | CJ21: 1 | CK21: 1 | CL21: 1
A22: 3. Udržitelné využívání a ochrana vodních a mořských zdrojů | B22: 5d) Z OPST lze podporovat umyvadlové baterie a kuchyňské baterie, které mají maximální průtok 6 l/min. | C22: Potvrďte, že v rámci projektu byly instalovány pouze umyvadlové a kuchyňské baterie s maximálním průtokem 6 l/min. Pro účely kontroly na místě uchovejte dokumentaci prokazující splnění této podmínky a na vyžádání ji předložte poskytovateli podpory nebo jinému kontrolnímu orgánu. Splnění podmínky lze doložit například: -technickým listem instalovaného výrobku, ze kterého je patrné splnění požadovaných parametrů, -projektovou dokumentací, -položkovým rozpočtem, -soupisem dodaných a instalovaných prvků, -jinou relevantní technickou dokumentací projektu. Z předložené dokumentace musí být zřejmé, že instalované baterie splňují požadovaný maximální průtok 6 l/min. Příjemce potvrzuje, že do projektu byla zahrnuta pouze zařízení, která splňují tuto podmínku. | D22: 1 | E22: 1 | F22: 1 | G22: 1 | H22: 1 | I22: 1 | J22: 1 | K22: 1 | L22: 1 | M22: 1 | N22: 1 | O22: 1 | P22: 1 | Q22: 1 | R22: 1 | S22: 1 | T22: 1 | U22: 1 | V22: 1 | Z22: 1 | AA22: 1 | AB22: 1 | AC22: 1 | AD22: 1 | AE22: 1 | AF22: 1 | AJ22: 1 | AK22: 1 | AL22: 1 | AM22: 1 | AO22: 1 | AU22: 1 | AV22: 1 | AZ22: 1 | BA22: 1 | BB22: 1 | BC22: 1 | BE22: 1 | BF22: 1 | BG22: 1 | BH22: 1 | BI22: 1 | BJ22: 1 | BK22: 1 | BL22: 1 | BM22: 1 | BN22: 1 | BO22: 1 | BP22: 1 | BQ22: 1 | BR22: 1 | BS22: 1 | BT22: 1 | BU22: 1 | BV22: 1 | BW22: 1 | BX22: 1 | BY22: 1 | BZ22: 1 | CA22: 1 | CB22: 1 | CC22: 1 | CD22: 1 | CE22: 1 | CF22: 1 | CG22: 1 | CH22: 1 | CI22: 1 | CJ22: 1 | CK22: 1 | CL22: 1
A23: 3. Udržitelné využívání a ochrana vodních a mořských zdrojů | B23: 12. V případě, že v rámci projektu (rekonstrukce a stavba nových budov) dochází k využití vodních zdrojů a lokalita není napojena na veřejný vodovod, žadatel prokáže, že nečerpá povrchovou, podzemní nebo srážkovou vodu v rizikových oblastech dle zjednodušeného posouzení uvedeného v příloze č. 13 těchto Pravidel. | C23: Potvrďte, že byla doložena Příloha č. 13 PrŽaP. | Q23: 1 | R23: 1 | S23: 1 | AJ23: 1 | AK23: 1 | AL23: 1 | AU23: 1 | AZ23: 1 | BA23: 1 | BB23: 1 | BC23: 1 | BH23: 1 | BI23: 1 | BJ23: 1 | BK23: 1 | BL23: 1 | BM23: 1 | BN23: 1 | BQ23: 1 | BR23: 1 | BT23: 1 | BU23: 1 | BV23: 1 | CC23: 1 | CD23: 1 | CE23: 1 | CF23: 1 | CH23: 1 | CI23: 1 | CJ23: 1
A24: 4. Přechod na oběhové hospodářství | B24: 2a) Nejméně 70 % (hmotnostních) stavebního a demoličního materiálu či odpadu neklasifikovaného jako nebezpečný ( s výjimkou přirozeně se vyskytujících materiálů uvedených v kategorii 17 05 04 v Evropském seznamu odpadů stanoveném rozhodnutím 2000/532/ES) vzniklého na staveništi je připraveno k opětovnému použití, recyklaci, v souladu s hierarchií způsobů nakládání s odpady, Metodickým návodem MŽP pro řízení vzniku stavebních a demoličních odpadů a pro nakládání s nimi a protokolem EU pro nakládání se stavebním a demoličním odpadem. Zasypávání nelze považovat za způsob využití odpadu ve smyslu: přípravy k opětovnému použití nebo recyklace. | C24: Potvrďte, že bylo doloženo stanovisko TDI. Pro účely kontroly na místě uchovejte dokumentaci prokazující splnění této podmínky a na vyžádání ji předložte poskytovateli podpory nebo jinému kontrolnímu orgánu. Splnění podmínky lze doložit například: - průběžnou evidencí odpadů; - záznamy o předání odpadu | D24: 1 | E24: 1 | F24: 1 | G24: 1 | H24: 1 | I24: 1 | J24: 1 | K24: 1 | L24: 1 | M24: 1 | N24: 1 | O24: 1 | Q24: 1 | R24: 1 | S24: 1 | T24: 1 | U24: 1 | V24: 1 | Z24: 1 | AA24: 1 | AB24: 1 | AF24: 1 | AJ24: 1 | AK24: 1 | AL24: 1 | AM24: 1 | AO24: 1 | AU24: 1 | AV24: 1 | AZ24: 1 | BA24: 1 | BB24: 1 | BC24: 1 | BE24: 1 | BF24: 1 | BG24: 1 | BH24: 1 | BI24: 1 | BJ24: 1 | BK24: 1 | BL24: 1 | BM24: 1 | BN24: 1 | BO24: 1 | BP24: 1 | BQ24: 1 | BR24: 1 | BS24: 1 | BT24: 1 | BU24: 1 | BV24: 1 | BW24: 1 | BX24: 1 | BY24: 1 | BZ24: 1 | CA24: 1 | CB24: 1 | CC24: 1 | CD24: 1 | CE24: 1 | CF24: 1 | CG24: 1 | CH24: 1 | CI24: 1 | CJ24: 1 | CK24: 1 | CL24: 1
A25: 4. Přechod na oběhové hospodářství | B25: 2b) Na stavbě je omezován vznik odpadů v souladu s EU Construction and Demolition Waste Management Protocol a berou se do úvahy nejlepší dostupné techniky sloužící k odstranění nebezpečného odpadu a znovuvyužití materiálů. Dříve zmíněné je v souladu s odpadovou legislativou zejména zákonem č. 541/2020 Sb., o odpadech a navazujícími právními předpisy vyhláškou č. 273/2021 Sb., o podrobnostech nakládání s odpady a vyhláškou č. 8/2021 Sb., Katalogem odpadů, doplněné metodickým návodem pro řízení vzniku stavebních a demoličních odpadů a pro nakládání s nimi. | C25: Potvrďte, že bylo doloženo stanovisko TDI. | D25: 1 | E25: 1 | F25: 1 | G25: 1 | H25: 1 | I25: 1 | J25: 1 | K25: 1 | L25: 1 | M25: 1 | N25: 1 | O25: 1 | Q25: 1 | R25: 1 | S25: 1 | T25: 1 | U25: 1 | V25: 1 | Z25: 1 | AA25: 1 | AB25: 1 | AF25: 1 | AJ25: 1 | AK25: 1 | AL25: 1 | AM25: 1 | AO25: 1 | AU25: 1 | AV25: 1 | AZ25: 1 | BA25: 1 | BB25: 1 | BC25: 1 | BE25: 1 | BF25: 1 | BG25: 1 | BH25: 1 | BI25: 1 | BJ25: 1 | BK25: 1 | BL25: 1 | BM25: 1 | BN25: 1 | BO25: 1 | BP25: 1 | BQ25: 1 | BR25: 1 | BS25: 1 | BT25: 1 | BU25: 1 | BV25: 1 | BW25: 1 | BX25: 1 | BY25: 1 | BZ25: 1 | CA25: 1 | CB25: 1 | CC25: 1 | CD25: 1 | CE25: 1 | CF25: 1 | CG25: 1 | CH25: 1 | CI25: 1 | CJ25: 1 | CK25: 1 | CL25: 1
A26: 4. Přechod na oběhové hospodářství | B26: 10a) U investic zaměřených na výstavbu zařízení pro sběr nebo využití odpadů je projekt v souladu se závaznou částí Plánu odpadového hospodářství ČR a Plánu odpadového hospodářství daného kraje. | C26: Potvrďte, že k žádosti o podporu bylo doloženo vyjádření příslušného krajského úřadu. | D26: 1 | E26: 1 | F26: 1 | M26: 1 | N26: 1 | O26: 1 | T26: 1 | U26: 1 | V26: 1 | AF26: 1 | AJ26: 1 | AK26: 1 | AL26: 1 | AM26: 1 | AO26: 1 | AV26: 1 | AZ26: 1 | BA26: 1 | BB26: 1 | BC26: 1 | BH26: 1 | BI26: 1 | BJ26: 1 | BK26: 1 | BL26: 1 | BM26: 1 | BN26: 1 | BQ26: 1 | BR26: 1 | BU26: 1 | BV26: 1 | CC26: 1 | CD26: 1 | CE26: 1 | CG26: 1 | CH26: 1 | CI26: 1 | CJ26: 1
A27: 4. Přechod na oběhové hospodářství | B27: 10b) V případě projektu zařízení na třídění a dotřídění odpadů předloží žadatel potvrzení o záměru dodávek budoucích dodavatelů odpadů (pokud se nejedná o vlastní odpad), v rozsahu pokrytí minimálně poloviny roční kapacity podporovaného zařízení uvažované pro všechny přijímané odpady. | C27: Potvrďte, že k ŽoPo/ZoR/ŽoP bylo doloženo potvrzení o záměru dodávek budoucích dodavatelů odpadů (pokud se nejedná o vlastní odpad), v rozsahu pokrytí minimálně poloviny roční kapacity podporovaného zařízení uvažované pro všechny přijímané odpady. | D27: 1 | E27: 1 | F27: 1 | M27: 1 | N27: 1 | O27: 1 | T27: 1 | U27: 1 | V27: 1 | AF27: 1 | AJ27: 1 | AK27: 1 | AL27: 1 | AM27: 1 | AO27: 1 | AV27: 1 | AZ27: 1 | BA27: 1 | BB27: 1 | BC27: 1 | BH27: 1 | BI27: 1 | BJ27: 1 | BK27: 1 | BL27: 1 | BM27: 1 | BN27: 1 | BQ27: 1 | BR27: 1 | BU27: 1 | BV27: 1 | CC27: 1 | CD27: 1 | CE27: 1 | CG27: 1 | CH27: 1 | CI27: 1 | CJ27: 1
A28: 4. Přechod na oběhové hospodářství | B28: 10c) U investic zaměřených na výstavbu zařízení pro sběr nebo využití odpadů musí být vstupem do zařízení vždy odpad a výstupem materiál, který přestal být odpadem a splňuje podmínky dle § 9 zákona 541/2020 Sb., o odpadech | C28: Popište, jak bylo dané splněno s odkazem na konkrétní dokument. Pro účely kontroly na místě uschovejte dokumentaci prokazující splnění této podmínky a na vyžádání ji předložte poskytovateli podpory nebo jinému kontrolnímu orgánu. Splnění podmínky lze doložit například: - schváleným provozním řádem zařízení; - identifikace vstupu - musí být doloženo, že vstupní surovina je skutečně odpad (např. evidenční listy, katalogové číslo odpadu dle vyhlášky); - proces zpracování - zařízení musí mít technologii, která odpad upraví tak, aby vznikl materiál splňující požadavky na výrobek nebo surovinu. Proces musí být popsán v provozním řádu zařízení. - výstupní materiál - musí být prokázáno, že výstup přestal být odpadem atd. | D28: 1 | E28: 1 | F28: 1 | M28: 1 | N28: 1 | O28: 1 | T28: 1 | U28: 1 | V28: 1 | AF28: 1 | AJ28: 1 | AK28: 1 | AL28: 1 | AM28: 1 | AO28: 1 | AV28: 1 | AZ28: 1 | BA28: 1 | BB28: 1 | BC28: 1 | BH28: 1 | BI28: 1 | BJ28: 1 | BK28: 1 | BL28: 1 | BM28: 1 | BN28: 1 | BQ28: 1 | BR28: 1 | BU28: 1 | BV28: 1 | CC28: 1 | CD28: 1 | CE28: 1 | CG28: 1 | CH28: 1 | CI28: 1 | CJ28: 1
A29: 5. Prevence a omezování znečištění | B29: 7b) V případě podpory bateriové akumulace pro obnovitelné zdroje energie jsou z podpory vyloučeny technologie na bázi olova, NiCd a NiMH, které by mohly způsobovat škody na životním prostředí. | C29: Potvrďte, že do projektu nebyly zahrnuty uvedené typy technologií. Pro účely kontroly na místě uschovejte dokumentaci prokazující splnění této podmínky a na vyžádání ji předložte poskytovateli podpory nebo jinému kontrolnímu orgánu. Splnění podmínky lze doložit například: - dokumentací skutečného provedení stavby (DSPS); - technickou dokumentací instalovaného bateriového systému (např. technický list výrobce atd.) | D29: 1 | E29: 1 | F29: 1 | G29: 1 | H29: 1 | I29: 1 | J29: 1 | K29: 1 | L29: 1 | M29: 1 | N29: 1 | O29: 1 | Q29: 1 | R29: 1 | S29: 1 | T29: 1 | U29: 1 | V29: 1 | Z29: 1 | AA29: 1 | AB29: 1 | AC29: 1 | AD29: 1 | AE29: 1 | AF29: 1 | AJ29: 1 | AK29: 1 | AL29: 1 | AM29: 1 | AO29: 1 | AU29: 1 | AV29: 1 | AZ29: 1 | BA29: 1 | BB29: 1 | BC29: 1 | BE29: 1 | BF29: 1 | BG29: 1 | BH29: 1 | BI29: 1 | BJ29: 1 | BK29: 1 | BL29: 1 | BM29: 1 | BN29: 1 | BO29: 1 | BP29: 1 | BQ29: 1 | BR29: 1 | BS29: 1 | BT29: 1 | BU29: 1 | BV29: 1 | BW29: 1 | BX29: 1 | BY29: 1 | BZ29: 1 | CA29: 1 | CB29: 1 | CC29: 1 | CD29: 1 | CE29: 1 | CF29: 1 | CG29: 1 | CH29: 1 | CI29: 1 | CJ29: 1 | CK29: 1 | CL29: 1
A30: 6. Ochrana a obnova biologické rozmanitosti a ekosystémů | B30: 2c) Budovy nesmí být postaveny na orné půdě a zemědělské půdě se střední až vysokou úrovní úrodnosti a podzemní biologické rozmanitosti podle průzkumu EU LUCAS | C30: Popište, jak bylo dané splněno s odkazem na konkrétní dokument. Pro účely kontroly na místě uschovejte dokumentaci prokazující splnění této podmínky a na vyžádání ji předložte poskytovateli podpory nebo jinému kontrolnímu orgánu. Splnění podmínky lze doložit například: - pravomocným rozhodnutím orgánu ochrany zemědělského půdního fondu (ZPF) o odnětí půdy ze ZPF atd. | D30: 1 | E30: 1 | F30: 1 | G30: 1 | H30: 1 | I30: 1 | J30: 1 | K30: 1 | L30: 1 | M30: 1 | N30: 1 | O30: 1 | Q30: 1 | R30: 1 | S30: 1 | T30: 1 | U30: 1 | V30: 1 | Z30: 1 | AA30: 1 | AB30: 1 | AF30: 1 | AJ30: 1 | AK30: 1 | AL30: 1 | AM30: 1 | AO30: 1 | AU30: 1 | AV30: 1 | AZ30: 1 | BA30: 1 | BB30: 1 | BC30: 1 | BE30: 1 | BF30: 1 | BG30: 1 | BH30: 1 | BI30: 1 | BJ30: 1 | BK30: 1 | BL30: 1 | BM30: 1 | BN30: 1 | BO30: 1 | BP30: 1 | BQ30: 1 | BR30: 1 | BS30: 1 | BT30: 1 | BU30: 1 | BV30: 1 | BW30: 1 | BX30: 1 | BY30: 1 | BZ30: 1 | CA30: 1 | CB30: 1 | CC30: 1 | CD30: 1 | CE30: 1 | CF30: 1 | CG30: 1 | CH30: 1 | CI30: 1 | CJ30: 1 | CK30: 1 | CL30: 1
A31: 6. Ochrana a obnova biologické rozmanitosti a ekosystémů | B31: 2d) Budovy nesmí být postaveny na zelené louce s uznávanou vysokou hodnotou biologické rozmanitosti a půdě, která slouží jako stanoviště ohrožených druhů (flóry a fauny) uvedených na Evropském červeném seznamu nebo na Červeném seznamu ohrožených druhů IUCN. | C31: Popište, jak bylo dané splněno s odkazem na konkrétní dokument. Splnění podmínky lze doložit například: - pravomocným povolením záměru | D31: 1 | E31: 1 | F31: 1 | G31: 1 | H31: 1 | I31: 1 | J31: 1 | K31: 1 | L31: 1 | M31: 1 | N31: 1 | O31: 1 | Q31: 1 | R31: 1 | S31: 1 | T31: 1 | U31: 1 | V31: 1 | Z31: 1 | AA31: 1 | AB31: 1 | AF31: 1 | AJ31: 1 | AK31: 1 | AL31: 1 | AM31: 1 | AO31: 1 | AU31: 1 | AV31: 1 | AZ31: 1 | BA31: 1 | BB31: 1 | BC31: 1 | BE31: 1 | BF31: 1 | BG31: 1 | BH31: 1 | BI31: 1 | BJ31: 1 | BK31: 1 | BL31: 1 | BM31: 1 | BN31: 1 | BO31: 1 | BP31: 1 | BQ31: 1 | BR31: 1 | BS31: 1 | BT31: 1 | BU31: 1 | BV31: 1 | BW31: 1 | BX31: 1 | BY31: 1 | BZ31: 1 | CA31: 1 | CB31: 1 | CC31: 1 | CD31: 1 | CE31: 1 | CF31: 1 | CG31: 1 | CH31: 1 | CI31: 1 | CJ31: 1 | CK31: 1 | CL31: 1
A32: 6. Ochrana a obnova biologické rozmanitosti a ekosystémů | B32: 2e) Budovy nesmí být postaveny na půdě, která odpovídá definici lesa stanovené ve vnitrostátních právních předpisech nebo používané v národní inventuře skleníkových plynů, nebo pokud taková definice neexistuje, půdě, která je v souladu s definicí lesa podle FAO | C32: Popište, jak bylo dané splněno s odkazem na konkrétní dokument. Splnění podmínky lze doložit například: - pravomocným povolením záměru; - pravomocným rozhodnutím o odnětí pozemku určeného k plnění funkcí lesa (PUPFL) atd. | D32: 1 | E32: 1 | F32: 1 | G32: 1 | H32: 1 | I32: 1 | J32: 1 | K32: 1 | L32: 1 | M32: 1 | N32: 1 | O32: 1 | Q32: 1 | R32: 1 | S32: 1 | T32: 1 | U32: 1 | V32: 1 | Z32: 1 | AA32: 1 | AB32: 1 | AF32: 1 | AJ32: 1 | AK32: 1 | AL32: 1 | AM32: 1 | AO32: 1 | AU32: 1 | AV32: 1 | AZ32: 1 | BA32: 1 | BB32: 1 | BC32: 1 | BE32: 1 | BF32: 1 | BG32: 1 | BH32: 1 | BI32: 1 | BJ32: 1 | BK32: 1 | BL32: 1 | BM32: 1 | BN32: 1 | BO32: 1 | BP32: 1 | BQ32: 1 | BR32: 1 | BS32: 1 | BT32: 1 | BU32: 1 | BV32: 1 | BW32: 1 | BX32: 1 | BY32: 1 | BZ32: 1 | CA32: 1 | CB32: 1 | CC32: 1 | CD32: 1 | CE32: 1 | CF32: 1 | CG32: 1 | CH32: 1 | CI32: 1 | CJ32: 1 | CK32: 1 | CL32: 1
A33: 6. Ochrana a obnova biologické rozmanitosti a ekosystémů | B33: 8. Při výsadbě zeleně se použijí pouze stanovištně vhodné dřeviny, které zajistí odolnost vůči klimatu a zároveň nebudou mít negativní dopad z pohledu biologické rozmanitosti. | C33: Popište, jak bylo dané splněno s odkazem na konkrétní dokument. Pro účely kontroly na místě uschovejte dokumentaci prokazující splnění této podmínky a na vyžádání ji předložte poskytovateli podpory nebo jinému kontrolnímu orgánu. Splnění podmínky lze doložit například: - potvrzením arboristy; - dendrologickým doporučením; - městskými katalogy; - invazivními druhy seznam dle vyhlášky 152/2023 Sb. - EU seznamem invazních druhů atd. | D33: 1 | E33: 1 | F33: 1 | G33: 1 | H33: 1 | I33: 1 | J33: 1 | K33: 1 | L33: 1 | M33: 1 | N33: 1 | O33: 1 | Q33: 1 | R33: 1 | S33: 1 | T33: 1 | U33: 1 | V33: 1 | Z33: 1 | AA33: 1 | AB33: 1 | AF33: 1 | AJ33: 1 | AK33: 1 | AL33: 1 | AM33: 1 | AO33: 1 | AU33: 1 | AV33: 1 | AZ33: 1 | BA33: 1 | BB33: 1 | BC33: 1 | BE33: 1 | BF33: 1 | BG33: 1 | BH33: 1 | BI33: 1 | BJ33: 1 | BK33: 1 | BL33: 1 | BM33: 1 | BN33: 1 | BO33: 1 | BP33: 1 | BQ33: 1 | BR33: 1 | BS33: 1 | BT33: 1 | BU33: 1 | BV33: 1 | BW33: 1 | BX33: 1 | BY33: 1 | BZ33: 1 | CA33: 1 | CB33: 1 | CC33: 1 | CD33: 1 | CE33: 1 | CF33: 1 | CG33: 1 | CH33: 1 | CI33: 1 | CJ33: 1 | CK33: 1 | CL33: 1
A34: Dle typu strategického dokumentu a jeho dopadu 1. Zmírňování změny klimatu 2. Přizpůsobování se změně klimatu 3. Udržitelné využívání a ochrana vodních a mořských zdrojů 4. Přechod na oběhové hospodářství 5. Prevence a omezování znečištění 6. Ochrana a obnova biologické rozmanitosti a ekosystémů | B34: 9. Projekt musí být dle jeho charakteru v souladu s relevantními strategickými dokumenty – např. státní politikou plánování v oblasti vod tvořenou zpracovanými plány pro zvládání povodňových rizik a plány dílčích povodí, plánu rozvoje vodovodů a kanalizací apod. | C34: Popište, jak bylo dané splněno s odkazem na konkrétní dokument. Pro účely kontroly na místě uschovejte dokumentaci prokazující splnění této podmínky a na vyžádání ji předložte poskytovateli podpory nebo jinému kontrolnímu orgánu. Splnění podmínky lze doložit například: - platnou legislativou a povolovacím procesem atd. | D34: 1 | E34: 1 | F34: 1 | M34: 1 | N34: 1 | O34: 1 | T34: 1 | U34: 1 | V34: 1 | AF34: 1 | AJ34: 1 | AK34: 1 | AL34: 1 | AM34: 1 | AO34: 1 | AV34: 1 | AZ34: 1 | BA34: 1 | BB34: 1 | BC34: 1 | BH34: 1 | BI34: 1 | BJ34: 1 | BK34: 1 | BL34: 1 | BM34: 1 | BN34: 1 | BQ34: 1 | BR34: 1 | BU34: 1 | BV34: 1 | CC34: 1 | CD34: 1 | CE34: 1 | CG34: 1 | CH34: 1 | CI34: 1 | CJ34: 1
A36: Vyberte odpověď
A37: ANO
A38: NE
A39: Nerelevantní
